{"text_format":"1","workbook":"xlsx","n_sheets":3,"sheets":["Sida1","Loggbok","Avst"],"not_rendered":{"charts":0,"images":1,"macros":0,"external_links":0,"defined_names":5,"comments":2,"pivot_tables":0},"unopened":[],"bounds":{"document_bytes":16777216,"sheet_cells":100000,"rows_first":2000,"rows_last":500,"rows_between":2000,"halvings":0,"cell_chars":16384,"cell_head_chars":4096},"cells_cut":0,"cells_raw":0,"read":"whole","date_system":"1900"}

{"sheet":"Sida1","index":0,"n_rows":62,"n_cols":12,"rows_kept":62,"cut":false,"hidden":false,"merged":[[9,2,9,5],[9,6,9,9],[9,10,9,11],[4,9,5,9],[5,0,6,5],[7,6,7,7],[7,8,7,11],[8,0,8,5],[8,6,8,7],[8,9,8,11],[3,4,3,5],[3,6,3,7],[4,6,5,6],[4,7,5,7],[4,8,5,8],[12,10,13,11],[13,0,13,2],[13,3,13,5],[14,10,15,11],[14,7,15,8],[14,0,15,2],[14,3,15,5],[14,6,15,6],[14,9,15,9],[18,6,18,7],[18,0,18,4],[10,0,10,1],[10,2,10,5],[10,6,10,9],[16,0,16,1],[16,6,16,11],[17,0,17,4],[17,6,17,7],[17,9,17,10],[10,10,10,11],[11,0,12,1],[11,2,12,5],[11,6,11,9],[11,10,11,11],[12,6,13,9],[19,0,19,5],[20,0,20,4],[21,0,22,5],[31,0,31,4],[32,0,32,4],[23,0,23,4],[23,9,25,11],[24,0,25,5],[26,0,26,4],[28,0,28,4],[28,6,33,11],[29,0,29,5],[30,0,30,4],[34,0,34,4],[34,6,35,9],[34,10,35,11],[35,0,36,5],[37,0,37,4],[37,6,39,11],[38,0,38,5]]}
[null,null,null,null,null,null,null,null,"Version: StA 2015_A"]
[]
[null,null,"SVENSKA KRYSSARKLUBBEN"]
[null,null,null,null,"LOGGBOK",null,"Seglingsperiod",null,24,"timmar"]
["Befälhavare",null,null,null,null,null,"Havs-segling","Kust-segling","Höst","Vår"]
[null,null,null,null,null,null,null,null,null,null,"År"]
[null,null,null,null,null,null,null,null,null,null,{"$f":"NOW()","v":"2015-06-03T21:19:29.110"}]
["Utdelningsadress",null,null,null,null,null,"Startnummer ",null,"Startplats"]
[null,null,null,null,null,null,null,null,"Startpunkt",{"$f":"VLOOKUP(I9,Avst!I:J,2,FALSE)","v":{"$error":"#N/A"}}]
["Postnummer ",null,"Postort",null,null,null,"Båtnamn ",null,null,null,"Segelnummer"]
[]
["Födelsedatum \n(6 siffror)",null,null,null,null,null,"Båttyp ",null,null,null,"SXK-Tal"]
[]
["Tel bostad ",null,null,"Tel arbete"]
[null,null,null,null,null,null,null,"Har deltagit tidigare som befälhavare",null,null,"Har EJ deltagit tidigare som befälhavare"]
[]
["Skriv i gula fält!",null,null,null,null,null,"Beräkning av resulterande distans"]
["SAMTLIGA FÖLJANDE UPPGIFTER SKALL LÄMNAS",null,null,null,null,null,"Start kl",null,{"$f":"Loggbok!L4","v":"00:00:00"}]
["1. Vid start",null,null,null,null,null,"Målgång kl",null,{"$f":"VLOOKUP(\"M\",Loggbok!F4:L105,7,FALSE)","v":"00:00:00"},"Försening","F",{"$f":"IF(I21>((I19-I18)*24),0,((I19-I18)*24-I21)*60)","v":0}]
["Tidpunkt, vindriktning, vindstyrka och segelföring, några deltagares startnr.",null,null,null,null,null,"Seglad distans (start - mål)",null,null,null,"D",{"$f":"Loggbok!E2","v":0}]
["2. Vid rundning av punkt",null,null,null,null,null,"Avdrag 1)","S",{"$f":"I4","v":24},"timmar","A",{"$f":"IF(L19>0,(2*L20*L19)/(I21*60),0)","v":0}]
["Samma anteckningar som vid start samt punktnummer och distans från närmaste föregående punkt.",null,null,null,null,null,"Resulterande distans",null,null,null,"R",{"$f":"+L20-L21","v":0}]
[null,null,null,null,null,null,"1) Beräkning av distansavdrag göres enligt"]
["3. Då annan deltagare siktas mellan punkter",null,null,null,null,null,"denna formel där",null,null,"A = 2 x D x F / S x 60"]
["Den andres startnummer samt tidpunkt och position (om ett flertal deltagare siktas räcker det att anteckna endast någon eller några av dem).",null,null,null,null,null,"A = avdrag i M"]
[null,null,null,null,null,null,"D = seglad distans"]
["4. Vid tändning och släckning av lanternor",null,null,null,null,null,"F = försening i minuter"]
["Tidpunkt",null,null,null,null,null,"S = seglingsperiodens längd ( 12, 24 etc )"]
["5. Vid revning och segelskiftning",null,null,null,null,null,"Att båt, besättning och utrustning uppfyllt fodringarna för den typ av segling som ovan kryssmarkerats samt att loggboken är rätt förd och att föreskrivna anteckningar införts, intygas"]
["Åtgärd och tidpunkt"]
["6. Användning av motor i friläge för batteriladdning"]
["Tidpunkter för start och stopp"]
["7.Vid seglingsperiodens slut om båten då inte nått fram till mål"]
["Positionen"]
["8. Vid ev. tillfälligt avbrott i seglingen"]
["Tidpunkt, position och förfarande samt utförlig redogörelse för skälen till angivet förfarande."]
[null,null,null,null,null,null,"Ort ",null,null,null,"Datum"]
["9. Vid målgång"]
["Samma anteckningar som vid rundning av punkt"]
[]
[null,"Insändes på ett av följande sätt:",null,null,null,null,"Befälhavarens namn"]
[null,"E-post: kjell.ortugsgatan116@gmail.com"]
[null,"Med papperspost: ",null,"Kjell Johansson"]
[null,"Örtugsgatan 116, 603 79 Norrköping"]
[]
["Rundade punkter hämtas från Loggbok"]
["Startpunkt",1,2,3,4,5,6,7,8,9,10,11]
[{"$f":"I9","v":"Startpunkt"},{"$f":"IF(OFFSET(Loggbok!$E$4,B47,0)=0,\"\",OFFSET(Loggbok!$E$4,B47,0))","v":""},{"$f":"IF(OFFSET(Loggbok!$E$4,C47,0)=0,\"\",OFFSET(Loggbok!$E$4,C47,0))","v":""},{"$f":"IF(OFFSET(Loggbok!$E$4,D47,0)=0,\"\",OFFSET(Loggbok!$E$4,D47,0))","v":""},{"$f":"IF(OFFSET(Loggbok!$E$4,E47,0)=0,\"\",OFFSET(Loggbok!$E$4,E47,0))","v":""},{"$f":"IF(OFFSET(Loggbok!$E$4,F47,0)=0,\"\",OFFSET(Loggbok!$E$4,F47,0))","v":""},{"$f":"IF(OFFSET(Loggbok!$E$4,G47,0)=0,\"\",OFFSET(Loggbok!$E$4,G47,0))","v":""},{"$f":"IF(OFFSET(Loggbok!$E$4,H47,0)=0,\"\",OFFSET(Loggbok!$E$4,H47,0))","v":""},{"$f":"IF(OFFSET(Loggbok!$E$4,I47,0)=0,\"\",OFFSET(Loggbok!$E$4,I47,0))","v":""},{"$f":"IF(OFFSET(Loggbok!$E$4,J47,0)=0,\"\",OFFSET(Loggbok!$E$4,J47,0))","v":""},{"$f":"IF(OFFSET(Loggbok!$E$4,K47,0)=0,\"\",OFFSET(Loggbok!$E$4,K47,0))","v":""},{"$f":"IF(OFFSET(Loggbok!$E$4,L47,0)=0,\"\",OFFSET(Loggbok!$E$4,L47,0))","v":""}]
[null,12,13,14,15,16,17,18,19,20,21,22]
[null,{"$f":"IF(OFFSET(Loggbok!$E$4,B49,0)=0,\"\",OFFSET(Loggbok!$E$4,B49,0))","v":""},{"$f":"IF(OFFSET(Loggbok!$E$4,C49,0)=0,\"\",OFFSET(Loggbok!$E$4,C49,0))","v":""},{"$f":"IF(OFFSET(Loggbok!$E$4,D49,0)=0,\"\",OFFSET(Loggbok!$E$4,D49,0))","v":""},{"$f":"IF(OFFSET(Loggbok!$E$4,E49,0)=0,\"\",OFFSET(Loggbok!$E$4,E49,0))","v":""},{"$f":"IF(OFFSET(Loggbok!$E$4,F49,0)=0,\"\",OFFSET(Loggbok!$E$4,F49,0))","v":""},{"$f":"IF(OFFSET(Loggbok!$E$4,G49,0)=0,\"\",OFFSET(Loggbok!$E$4,G49,0))","v":""},{"$f":"IF(OFFSET(Loggbok!$E$4,H49,0)=0,\"\",OFFSET(Loggbok!$E$4,H49,0))","v":""},{"$f":"IF(OFFSET(Loggbok!$E$4,I49,0)=0,\"\",OFFSET(Loggbok!$E$4,I49,0))","v":""},{"$f":"IF(OFFSET(Loggbok!$E$4,J49,0)=0,\"\",OFFSET(Loggbok!$E$4,J49,0))","v":""},{"$f":"IF(OFFSET(Loggbok!$E$4,K49,0)=0,\"\",OFFSET(Loggbok!$E$4,K49,0))","v":""},{"$f":"IF(OFFSET(Loggbok!$E$4,L49,0)=0,\"\",OFFSET(Loggbok!$E$4,L49,0))","v":""}]
[null,23,24,25,26,27,28,29,30,31,32,33]
[null,{"$f":"IF(OFFSET(Loggbok!$E$4,B51,0)=0,\"\",OFFSET(Loggbok!$E$4,B51,0))","v":""},{"$f":"IF(OFFSET(Loggbok!$E$4,C51,0)=0,\"\",OFFSET(Loggbok!$E$4,C51,0))","v":""},{"$f":"IF(OFFSET(Loggbok!$E$4,D51,0)=0,\"\",OFFSET(Loggbok!$E$4,D51,0))","v":""},{"$f":"IF(OFFSET(Loggbok!$E$4,E51,0)=0,\"\",OFFSET(Loggbok!$E$4,E51,0))","v":""},{"$f":"IF(OFFSET(Loggbok!$E$4,F51,0)=0,\"\",OFFSET(Loggbok!$E$4,F51,0))","v":""},{"$f":"IF(OFFSET(Loggbok!$E$4,G51,0)=0,\"\",OFFSET(Loggbok!$E$4,G51,0))","v":""},{"$f":"IF(OFFSET(Loggbok!$E$4,H51,0)=0,\"\",OFFSET(Loggbok!$E$4,H51,0))","v":""},{"$f":"IF(OFFSET(Loggbok!$E$4,I51,0)=0,\"\",OFFSET(Loggbok!$E$4,I51,0))","v":""},{"$f":"IF(OFFSET(Loggbok!$E$4,J51,0)=0,\"\",OFFSET(Loggbok!$E$4,J51,0))","v":""},{"$f":"IF(OFFSET(Loggbok!$E$4,K51,0)=0,\"\",OFFSET(Loggbok!$E$4,K51,0))","v":""},{"$f":"IF(OFFSET(Loggbok!$E$4,L51,0)=0,\"\",OFFSET(Loggbok!$E$4,L51,0))","v":""}]
[null,34,35,36,37,38,39,40,41,42,43,44]
[null,{"$f":"IF(OFFSET(Loggbok!$E$4,B53,0)=0,\"\",OFFSET(Loggbok!$E$4,B53,0))","v":""},{"$f":"IF(OFFSET(Loggbok!$E$4,C53,0)=0,\"\",OFFSET(Loggbok!$E$4,C53,0))","v":""},{"$f":"IF(OFFSET(Loggbok!$E$4,D53,0)=0,\"\",OFFSET(Loggbok!$E$4,D53,0))","v":""},{"$f":"IF(OFFSET(Loggbok!$E$4,E53,0)=0,\"\",OFFSET(Loggbok!$E$4,E53,0))","v":""},{"$f":"IF(OFFSET(Loggbok!$E$4,F53,0)=0,\"\",OFFSET(Loggbok!$E$4,F53,0))","v":""},{"$f":"IF(OFFSET(Loggbok!$E$4,G53,0)=0,\"\",OFFSET(Loggbok!$E$4,G53,0))","v":""},{"$f":"IF(OFFSET(Loggbok!$E$4,H53,0)=0,\"\",OFFSET(Loggbok!$E$4,H53,0))","v":""},{"$f":"IF(OFFSET(Loggbok!$E$4,I53,0)=0,\"\",OFFSET(Loggbok!$E$4,I53,0))","v":""},{"$f":"IF(OFFSET(Loggbok!$E$4,J53,0)=0,\"\",OFFSET(Loggbok!$E$4,J53,0))","v":""},{"$f":"IF(OFFSET(Loggbok!$E$4,K53,0)=0,\"\",OFFSET(Loggbok!$E$4,K53,0))","v":""},{"$f":"IF(OFFSET(Loggbok!$E$4,L53,0)=0,\"\",OFFSET(Loggbok!$E$4,L53,0))","v":""}]
[null,45,46,47,48,49,50,51,52,53,54,55]
[null,{"$f":"IF(OFFSET(Loggbok!$E$4,B55,0)=0,\"\",OFFSET(Loggbok!$E$4,B55,0))","v":""},{"$f":"IF(OFFSET(Loggbok!$E$4,C55,0)=0,\"\",OFFSET(Loggbok!$E$4,C55,0))","v":""},{"$f":"IF(OFFSET(Loggbok!$E$4,D55,0)=0,\"\",OFFSET(Loggbok!$E$4,D55,0))","v":""},{"$f":"IF(OFFSET(Loggbok!$E$4,E55,0)=0,\"\",OFFSET(Loggbok!$E$4,E55,0))","v":""},{"$f":"IF(OFFSET(Loggbok!$E$4,F55,0)=0,\"\",OFFSET(Loggbok!$E$4,F55,0))","v":""},{"$f":"IF(OFFSET(Loggbok!$E$4,G55,0)=0,\"\",OFFSET(Loggbok!$E$4,G55,0))","v":""},{"$f":"IF(OFFSET(Loggbok!$E$4,H55,0)=0,\"\",OFFSET(Loggbok!$E$4,H55,0))","v":""},{"$f":"IF(OFFSET(Loggbok!$E$4,I55,0)=0,\"\",OFFSET(Loggbok!$E$4,I55,0))","v":""},{"$f":"IF(OFFSET(Loggbok!$E$4,J55,0)=0,\"\",OFFSET(Loggbok!$E$4,J55,0))","v":""},{"$f":"IF(OFFSET(Loggbok!$E$4,K55,0)=0,\"\",OFFSET(Loggbok!$E$4,K55,0))","v":""},{"$f":"IF(OFFSET(Loggbok!$E$4,L55,0)=0,\"\",OFFSET(Loggbok!$E$4,L55,0))","v":""}]
[null,56,57,58,59,60,61,62,63,64,65,66]
[null,{"$f":"IF(OFFSET(Loggbok!$E$4,B57,0)=0,\"\",OFFSET(Loggbok!$E$4,B57,0))","v":""},{"$f":"IF(OFFSET(Loggbok!$E$4,C57,0)=0,\"\",OFFSET(Loggbok!$E$4,C57,0))","v":""},{"$f":"IF(OFFSET(Loggbok!$E$4,D57,0)=0,\"\",OFFSET(Loggbok!$E$4,D57,0))","v":""},{"$f":"IF(OFFSET(Loggbok!$E$4,E57,0)=0,\"\",OFFSET(Loggbok!$E$4,E57,0))","v":""},{"$f":"IF(OFFSET(Loggbok!$E$4,F57,0)=0,\"\",OFFSET(Loggbok!$E$4,F57,0))","v":""},{"$f":"IF(OFFSET(Loggbok!$E$4,G57,0)=0,\"\",OFFSET(Loggbok!$E$4,G57,0))","v":""},{"$f":"IF(OFFSET(Loggbok!$E$4,H57,0)=0,\"\",OFFSET(Loggbok!$E$4,H57,0))","v":""},{"$f":"IF(OFFSET(Loggbok!$E$4,I57,0)=0,\"\",OFFSET(Loggbok!$E$4,I57,0))","v":""},{"$f":"IF(OFFSET(Loggbok!$E$4,J57,0)=0,\"\",OFFSET(Loggbok!$E$4,J57,0))","v":""},{"$f":"IF(OFFSET(Loggbok!$E$4,K57,0)=0,\"\",OFFSET(Loggbok!$E$4,K57,0))","v":""},{"$f":"IF(OFFSET(Loggbok!$E$4,L57,0)=0,\"\",OFFSET(Loggbok!$E$4,L57,0))","v":""}]
[null,67,68,69,70,71,72,73,74,75,76,77]
[null,{"$f":"IF(OFFSET(Loggbok!$E$4,B59,0)=0,\"\",OFFSET(Loggbok!$E$4,B59,0))","v":""},{"$f":"IF(OFFSET(Loggbok!$E$4,C59,0)=0,\"\",OFFSET(Loggbok!$E$4,C59,0))","v":""},{"$f":"IF(OFFSET(Loggbok!$E$4,D59,0)=0,\"\",OFFSET(Loggbok!$E$4,D59,0))","v":""},{"$f":"IF(OFFSET(Loggbok!$E$4,E59,0)=0,\"\",OFFSET(Loggbok!$E$4,E59,0))","v":""},{"$f":"IF(OFFSET(Loggbok!$E$4,F59,0)=0,\"\",OFFSET(Loggbok!$E$4,F59,0))","v":""},{"$f":"IF(OFFSET(Loggbok!$E$4,G59,0)=0,\"\",OFFSET(Loggbok!$E$4,G59,0))","v":""},{"$f":"IF(OFFSET(Loggbok!$E$4,H59,0)=0,\"\",OFFSET(Loggbok!$E$4,H59,0))","v":""},{"$f":"IF(OFFSET(Loggbok!$E$4,I59,0)=0,\"\",OFFSET(Loggbok!$E$4,I59,0))","v":""},{"$f":"IF(OFFSET(Loggbok!$E$4,J59,0)=0,\"\",OFFSET(Loggbok!$E$4,J59,0))","v":""},{"$f":"IF(OFFSET(Loggbok!$E$4,K59,0)=0,\"\",OFFSET(Loggbok!$E$4,K59,0))","v":""},{"$f":"IF(OFFSET(Loggbok!$E$4,L59,0)=0,\"\",OFFSET(Loggbok!$E$4,L59,0))","v":""}]
["Registrerade gastar enligt startlista"]
["Namn",null,null,"e-post",null,null,"Startnr","Plats för seglingskommitténs anteckningar"]

{"sheet":"Loggbok","index":1,"n_rows":105,"n_cols":14,"rows_kept":105,"cut":false,"hidden":false,"merged":[[0,2,0,3],[0,4,0,8],[1,2,1,3],[1,4,1,6]]}
[null,null,"Båtnamn",null,{"$f":"Sida1!G11","v":0},null,null,null,null,"Start-nr",{"$f":"Sida1!G9","v":0},null,"Timmar totalt","Medel- hastighet"]
[null,null,"Totalt seglad sträcka",null,{"$f":"SUM(G4:G100)","v":0},null,null,"SRS",{"$f":"Sida1!K13","v":0},"Korr sträcka",{"$f":"E2/I2","v":{"$error":"#DIV/0!"}},null,{"$f":"SUM(M5:M105)*24","v":0},{"$f":"IF(E2>0,E2/M2,\"\")","v":""}]
["Från","Till","Datum\n[åååå-mm-dd]","Tid\n[tt:mm]","Punkt",null,"Sträcka","Vind riktning","Vind   m/s","Segelföring","Övriga uppgifter",null,"Tid [tt:mm]","Hastighet [kt]"]
[null,{"$f":"IF(E4,VLOOKUP(E4,Avst!I:J,2,FALSE),\"\")","v":{"$error":"#VALUE!"}},null,null,{"$f":"Sida1!I9","v":"Startpunkt"},{"$f":"IF(E5,\"R\",\"M\")","v":"M"},null,null,null,null,null,{"$f":"C4+D4","v":"00:00:00"}]
[{"$f":"IF(E4,VLOOKUP(E4,Avst!I:J,2,FALSE),\"\")","v":{"$error":"#VALUE!"}},{"$f":"IF(E5,VLOOKUP(E5,Avst!I:J,2,FALSE),\"\")","v":""},null,null,null,{"$f":"IF(E6,\"R\",\"M\")","v":"M"},{"$f":"IF(E5,VLOOKUP(CONCATENATE(MIN(E4,E5),\"-\",MAX(E4,E5)),Avst!A:B,2,FALSE),\"\")","v":""},null,null,null,null,"00:00:00",{"$f":"IF(E5,L5-L4,\"\")","v":""},{"$f":"IF(E5,G5/M5/24,\"\")","v":""}]
[{"$f":"IF(E5,VLOOKUP(E5,Avst!I:J,2,FALSE),\"\")","v":""},{"$f":"IF(E6,VLOOKUP(E6,Avst!I:J,2,FALSE),\"\")","v":""},null,null,null,"M",{"$f":"IF(E6,VLOOKUP(CONCATENATE(MIN(E5,E6),\"-\",MAX(E5,E6)),Avst!A:B,2,FALSE),\"\")","v":""},null,null,null,null,"00:00:00","",""]
[{"$f":"IF(E6,VLOOKUP(E6,Avst!I:J,2,FALSE),\"\")","v":""},{"$f":"IF(E7,VLOOKUP(E7,Avst!I:J,2,FALSE),\"\")","v":""},null,null,null,"M",{"$f":"IF(E7,VLOOKUP(CONCATENATE(MIN(E6,E7),\"-\",MAX(E6,E7)),Avst!A:B,2,FALSE),\"\")","v":""},null,null,null,null,"00:00:00","",""]
[{"$f":"IF(E7,VLOOKUP(E7,Avst!I:J,2,FALSE),\"\")","v":""},{"$f":"IF(E8,VLOOKUP(E8,Avst!I:J,2,FALSE),\"\")","v":""},null,null,null,"M",{"$f":"IF(E8,VLOOKUP(CONCATENATE(MIN(E7,E8),\"-\",MAX(E7,E8)),Avst!A:B,2,FALSE),\"\")","v":""},null,null,null,null,"00:00:00","",""]
[{"$f":"IF(E8,VLOOKUP(E8,Avst!I:J,2,FALSE),\"\")","v":""},{"$f":"IF(E9,VLOOKUP(E9,Avst!I:J,2,FALSE),\"\")","v":""},null,null,null,"M",{"$f":"IF(E9,VLOOKUP(CONCATENATE(MIN(E8,E9),\"-\",MAX(E8,E9)),Avst!A:B,2,FALSE),\"\")","v":""},null,null,null,null,"00:00:00","",""]
[{"$f":"IF(E9,VLOOKUP(E9,Avst!I:J,2,FALSE),\"\")","v":""},{"$f":"IF(E10,VLOOKUP(E10,Avst!I:J,2,FALSE),\"\")","v":""},null,null,null,"M",{"$f":"IF(E10,VLOOKUP(CONCATENATE(MIN(E9,E10),\"-\",MAX(E9,E10)),Avst!A:B,2,FALSE),\"\")","v":""},null,null,null,null,"00:00:00","",""]
[{"$f":"IF(E10,VLOOKUP(E10,Avst!I:J,2,FALSE),\"\")","v":""},{"$f":"IF(E11,VLOOKUP(E11,Avst!I:J,2,FALSE),\"\")","v":""},null,null,null,"M",{"$f":"IF(E11,VLOOKUP(CONCATENATE(MIN(E10,E11),\"-\",MAX(E10,E11)),Avst!A:B,2,FALSE),\"\")","v":""},null,null,null,null,"00:00:00","",""]
[{"$f":"IF(E11,VLOOKUP(E11,Avst!I:J,2,FALSE),\"\")","v":""},{"$f":"IF(E12,VLOOKUP(E12,Avst!I:J,2,FALSE),\"\")","v":""},null,null,null,"M",{"$f":"IF(E12,VLOOKUP(CONCATENATE(MIN(E11,E12),\"-\",MAX(E11,E12)),Avst!A:B,2,FALSE),\"\")","v":""},null,null,null,null,"00:00:00","",""]
[{"$f":"IF(E12,VLOOKUP(E12,Avst!I:J,2,FALSE),\"\")","v":""},{"$f":"IF(E13,VLOOKUP(E13,Avst!I:J,2,FALSE),\"\")","v":""},null,null,null,"M",{"$f":"IF(E13,VLOOKUP(CONCATENATE(MIN(E12,E13),\"-\",MAX(E12,E13)),Avst!A:B,2,FALSE),\"\")","v":""},null,null,null,null,"00:00:00","",""]
[{"$f":"IF(E13,VLOOKUP(E13,Avst!I:J,2,FALSE),\"\")","v":""},{"$f":"IF(E14,VLOOKUP(E14,Avst!I:J,2,FALSE),\"\")","v":""},null,null,null,"M",{"$f":"IF(E14,VLOOKUP(CONCATENATE(MIN(E13,E14),\"-\",MAX(E13,E14)),Avst!A:B,2,FALSE),\"\")","v":""},null,null,null,null,"00:00:00","",""]
[{"$f":"IF(E14,VLOOKUP(E14,Avst!I:J,2,FALSE),\"\")","v":""},{"$f":"IF(E15,VLOOKUP(E15,Avst!I:J,2,FALSE),\"\")","v":""},null,null,null,"M",{"$f":"IF(E15,VLOOKUP(CONCATENATE(MIN(E14,E15),\"-\",MAX(E14,E15)),Avst!A:B,2,FALSE),\"\")","v":""},null,null,null,null,"00:00:00","",""]
[{"$f":"IF(E15,VLOOKUP(E15,Avst!I:J,2,FALSE),\"\")","v":""},{"$f":"IF(E16,VLOOKUP(E16,Avst!I:J,2,FALSE),\"\")","v":""},null,null,null,"M",{"$f":"IF(E16,VLOOKUP(CONCATENATE(MIN(E15,E16),\"-\",MAX(E15,E16)),Avst!A:B,2,FALSE),\"\")","v":""},null,null,null,null,"00:00:00","",""]
[{"$f":"IF(E16,VLOOKUP(E16,Avst!I:J,2,FALSE),\"\")","v":""},{"$f":"IF(E17,VLOOKUP(E17,Avst!I:J,2,FALSE),\"\")","v":""},null,null,null,"M",{"$f":"IF(E17,VLOOKUP(CONCATENATE(MIN(E16,E17),\"-\",MAX(E16,E17)),Avst!A:B,2,FALSE),\"\")","v":""},null,null,null,null,"00:00:00","",""]
[{"$f":"IF(E17,VLOOKUP(E17,Avst!I:J,2,FALSE),\"\")","v":""},{"$f":"IF(E18,VLOOKUP(E18,Avst!I:J,2,FALSE),\"\")","v":""},null,null,null,"M",{"$f":"IF(E18,VLOOKUP(CONCATENATE(MIN(E17,E18),\"-\",MAX(E17,E18)),Avst!A:B,2,FALSE),\"\")","v":""},null,null,null,null,"00:00:00","",""]
[{"$f":"IF(E18,VLOOKUP(E18,Avst!I:J,2,FALSE),\"\")","v":""},{"$f":"IF(E19,VLOOKUP(E19,Avst!I:J,2,FALSE),\"\")","v":""},null,null,null,"M",{"$f":"IF(E19,VLOOKUP(CONCATENATE(MIN(E18,E19),\"-\",MAX(E18,E19)),Avst!A:B,2,FALSE),\"\")","v":""},null,null,null,null,"00:00:00","",""]
[{"$f":"IF(E19,VLOOKUP(E19,Avst!I:J,2,FALSE),\"\")","v":""},{"$f":"IF(E20,VLOOKUP(E20,Avst!I:J,2,FALSE),\"\")","v":""},null,null,null,"M",{"$f":"IF(E20,VLOOKUP(CONCATENATE(MIN(E19,E20),\"-\",MAX(E19,E20)),Avst!A:B,2,FALSE),\"\")","v":""},null,null,null,null,"00:00:00","",""]
[{"$f":"IF(E20,VLOOKUP(E20,Avst!I:J,2,FALSE),\"\")","v":""},{"$f":"IF(E21,VLOOKUP(E21,Avst!I:J,2,FALSE),\"\")","v":""},null,null,null,"M",{"$f":"IF(E21,VLOOKUP(CONCATENATE(MIN(E20,E21),\"-\",MAX(E20,E21)),Avst!A:B,2,FALSE),\"\")","v":""},null,null,null,null,"00:00:00","",""]
[{"$f":"IF(E21,VLOOKUP(E21,Avst!I:J,2,FALSE),\"\")","v":""},{"$f":"IF(E22,VLOOKUP(E22,Avst!I:J,2,FALSE),\"\")","v":""},null,null,null,"M",{"$f":"IF(E22,VLOOKUP(CONCATENATE(MIN(E21,E22),\"-\",MAX(E21,E22)),Avst!A:B,2,FALSE),\"\")","v":""},null,null,null,null,"00:00:00","",""]
[{"$f":"IF(E22,VLOOKUP(E22,Avst!I:J,2,FALSE),\"\")","v":""},{"$f":"IF(E23,VLOOKUP(E23,Avst!I:J,2,FALSE),\"\")","v":""},null,null,null,"M",{"$f":"IF(E23,VLOOKUP(CONCATENATE(MIN(E22,E23),\"-\",MAX(E22,E23)),Avst!A:B,2,FALSE),\"\")","v":""},null,null,null,null,"00:00:00","",""]
[{"$f":"IF(E23,VLOOKUP(E23,Avst!I:J,2,FALSE),\"\")","v":""},{"$f":"IF(E24,VLOOKUP(E24,Avst!I:J,2,FALSE),\"\")","v":""},null,null,null,"M",{"$f":"IF(E24,VLOOKUP(CONCATENATE(MIN(E23,E24),\"-\",MAX(E23,E24)),Avst!A:B,2,FALSE),\"\")","v":""},null,null,null,null,"00:00:00","",""]
[{"$f":"IF(E24,VLOOKUP(E24,Avst!I:J,2,FALSE),\"\")","v":""},{"$f":"IF(E25,VLOOKUP(E25,Avst!I:J,2,FALSE),\"\")","v":""},null,null,null,"M",{"$f":"IF(E25,VLOOKUP(CONCATENATE(MIN(E24,E25),\"-\",MAX(E24,E25)),Avst!A:B,2,FALSE),\"\")","v":""},null,null,null,null,"00:00:00","",""]
[{"$f":"IF(E25,VLOOKUP(E25,Avst!I:J,2,FALSE),\"\")","v":""},{"$f":"IF(E26,VLOOKUP(E26,Avst!I:J,2,FALSE),\"\")","v":""},null,null,null,"M",{"$f":"IF(E26,VLOOKUP(CONCATENATE(MIN(E25,E26),\"-\",MAX(E25,E26)),Avst!A:B,2,FALSE),\"\")","v":""},null,null,null,null,"00:00:00","",""]
[{"$f":"IF(E26,VLOOKUP(E26,Avst!I:J,2,FALSE),\"\")","v":""},{"$f":"IF(E27,VLOOKUP(E27,Avst!I:J,2,FALSE),\"\")","v":""},null,null,null,"M",{"$f":"IF(E27,VLOOKUP(CONCATENATE(MIN(E26,E27),\"-\",MAX(E26,E27)),Avst!A:B,2,FALSE),\"\")","v":""},null,null,null,null,"00:00:00","",""]
[{"$f":"IF(E27,VLOOKUP(E27,Avst!I:J,2,FALSE),\"\")","v":""},{"$f":"IF(E28,VLOOKUP(E28,Avst!I:J,2,FALSE),\"\")","v":""},null,null,null,"M",{"$f":"IF(E28,VLOOKUP(CONCATENATE(MIN(E27,E28),\"-\",MAX(E27,E28)),Avst!A:B,2,FALSE),\"\")","v":""},null,null,null,null,"00:00:00","",""]
[{"$f":"IF(E28,VLOOKUP(E28,Avst!I:J,2,FALSE),\"\")","v":""},{"$f":"IF(E29,VLOOKUP(E29,Avst!I:J,2,FALSE),\"\")","v":""},null,null,null,"M",{"$f":"IF(E29,VLOOKUP(CONCATENATE(MIN(E28,E29),\"-\",MAX(E28,E29)),Avst!A:B,2,FALSE),\"\")","v":""},null,null,null,null,"00:00:00","",""]
[{"$f":"IF(E29,VLOOKUP(E29,Avst!I:J,2,FALSE),\"\")","v":""},{"$f":"IF(E30,VLOOKUP(E30,Avst!I:J,2,FALSE),\"\")","v":""},null,null,null,"M",{"$f":"IF(E30,VLOOKUP(CONCATENATE(MIN(E29,E30),\"-\",MAX(E29,E30)),Avst!A:B,2,FALSE),\"\")","v":""},null,null,null,null,"00:00:00","",""]
[{"$f":"IF(E30,VLOOKUP(E30,Avst!I:J,2,FALSE),\"\")","v":""},{"$f":"IF(E31,VLOOKUP(E31,Avst!I:J,2,FALSE),\"\")","v":""},null,null,null,"M",{"$f":"IF(E31,VLOOKUP(CONCATENATE(MIN(E30,E31),\"-\",MAX(E30,E31)),Avst!A:B,2,FALSE),\"\")","v":""},null,null,null,null,"00:00:00","",""]
[{"$f":"IF(E31,VLOOKUP(E31,Avst!I:J,2,FALSE),\"\")","v":""},{"$f":"IF(E32,VLOOKUP(E32,Avst!I:J,2,FALSE),\"\")","v":""},null,null,null,"M",{"$f":"IF(E32,VLOOKUP(CONCATENATE(MIN(E31,E32),\"-\",MAX(E31,E32)),Avst!A:B,2,FALSE),\"\")","v":""},null,null,null,null,"00:00:00","",""]
[{"$f":"IF(E32,VLOOKUP(E32,Avst!I:J,2,FALSE),\"\")","v":""},{"$f":"IF(E33,VLOOKUP(E33,Avst!I:J,2,FALSE),\"\")","v":""},null,null,null,"M",{"$f":"IF(E33,VLOOKUP(CONCATENATE(MIN(E32,E33),\"-\",MAX(E32,E33)),Avst!A:B,2,FALSE),\"\")","v":""},null,null,null,null,"00:00:00","",""]
[{"$f":"IF(E33,VLOOKUP(E33,Avst!I:J,2,FALSE),\"\")","v":""},{"$f":"IF(E34,VLOOKUP(E34,Avst!I:J,2,FALSE),\"\")","v":""},null,null,null,"M",{"$f":"IF(E34,VLOOKUP(CONCATENATE(MIN(E33,E34),\"-\",MAX(E33,E34)),Avst!A:B,2,FALSE),\"\")","v":""},null,null,null,null,"00:00:00","",""]
[{"$f":"IF(E34,VLOOKUP(E34,Avst!I:J,2,FALSE),\"\")","v":""},{"$f":"IF(E35,VLOOKUP(E35,Avst!I:J,2,FALSE),\"\")","v":""},null,null,null,"M",{"$f":"IF(E35,VLOOKUP(CONCATENATE(MIN(E34,E35),\"-\",MAX(E34,E35)),Avst!A:B,2,FALSE),\"\")","v":""},null,null,null,null,"00:00:00","",""]
[{"$f":"IF(E35,VLOOKUP(E35,Avst!I:J,2,FALSE),\"\")","v":""},{"$f":"IF(E36,VLOOKUP(E36,Avst!I:J,2,FALSE),\"\")","v":""},null,null,null,"M",{"$f":"IF(E36,VLOOKUP(CONCATENATE(MIN(E35,E36),\"-\",MAX(E35,E36)),Avst!A:B,2,FALSE),\"\")","v":""},null,null,null,null,{"$f":"C36+D36","v":"00:00:00"},"",""]
[{"$f":"IF(E36,VLOOKUP(E36,Avst!I:J,2,FALSE),\"\")","v":""},{"$f":"IF(E37,VLOOKUP(E37,Avst!I:J,2,FALSE),\"\")","v":""},null,null,null,"M",{"$f":"IF(E37,VLOOKUP(CONCATENATE(MIN(E36,E37),\"-\",MAX(E36,E37)),Avst!A:B,2,FALSE),\"\")","v":""},null,null,null,null,"00:00:00",{"$f":"IF(E37,L37-L36,\"\")","v":""},{"$f":"IF(E37,G37/M37/24,\"\")","v":""}]
[{"$f":"IF(E37,VLOOKUP(E37,Avst!I:J,2,FALSE),\"\")","v":""},{"$f":"IF(E38,VLOOKUP(E38,Avst!I:J,2,FALSE),\"\")","v":""},null,null,null,"M",{"$f":"IF(E38,VLOOKUP(CONCATENATE(MIN(E37,E38),\"-\",MAX(E37,E38)),Avst!A:B,2,FALSE),\"\")","v":""},null,null,null,null,"00:00:00","",""]
[{"$f":"IF(E38,VLOOKUP(E38,Avst!I:J,2,FALSE),\"\")","v":""},{"$f":"IF(E39,VLOOKUP(E39,Avst!I:J,2,FALSE),\"\")","v":""},null,null,null,"M",{"$f":"IF(E39,VLOOKUP(CONCATENATE(MIN(E38,E39),\"-\",MAX(E38,E39)),Avst!A:B,2,FALSE),\"\")","v":""},null,null,null,null,"00:00:00","",""]
[{"$f":"IF(E39,VLOOKUP(E39,Avst!I:J,2,FALSE),\"\")","v":""},{"$f":"IF(E40,VLOOKUP(E40,Avst!I:J,2,FALSE),\"\")","v":""},null,null,null,"M",{"$f":"IF(E40,VLOOKUP(CONCATENATE(MIN(E39,E40),\"-\",MAX(E39,E40)),Avst!A:B,2,FALSE),\"\")","v":""},null,null,null,null,"00:00:00","",""]
[{"$f":"IF(E40,VLOOKUP(E40,Avst!I:J,2,FALSE),\"\")","v":""},{"$f":"IF(E41,VLOOKUP(E41,Avst!I:J,2,FALSE),\"\")","v":""},null,null,null,"M",{"$f":"IF(E41,VLOOKUP(CONCATENATE(MIN(E40,E41),\"-\",MAX(E40,E41)),Avst!A:B,2,FALSE),\"\")","v":""},null,null,null,null,"00:00:00","",""]
[{"$f":"IF(E41,VLOOKUP(E41,Avst!I:J,2,FALSE),\"\")","v":""},{"$f":"IF(E42,VLOOKUP(E42,Avst!I:J,2,FALSE),\"\")","v":""},null,null,null,"M",{"$f":"IF(E42,VLOOKUP(CONCATENATE(MIN(E41,E42),\"-\",MAX(E41,E42)),Avst!A:B,2,FALSE),\"\")","v":""},null,null,null,null,"00:00:00","",""]
[{"$f":"IF(E42,VLOOKUP(E42,Avst!I:J,2,FALSE),\"\")","v":""},{"$f":"IF(E43,VLOOKUP(E43,Avst!I:J,2,FALSE),\"\")","v":""},null,null,null,"M",{"$f":"IF(E43,VLOOKUP(CONCATENATE(MIN(E42,E43),\"-\",MAX(E42,E43)),Avst!A:B,2,FALSE),\"\")","v":""},null,null,null,null,"00:00:00","",""]
[{"$f":"IF(E43,VLOOKUP(E43,Avst!I:J,2,FALSE),\"\")","v":""},{"$f":"IF(E44,VLOOKUP(E44,Avst!I:J,2,FALSE),\"\")","v":""},null,null,null,"M",{"$f":"IF(E44,VLOOKUP(CONCATENATE(MIN(E43,E44),\"-\",MAX(E43,E44)),Avst!A:B,2,FALSE),\"\")","v":""},null,null,null,null,"00:00:00","",""]
[{"$f":"IF(E44,VLOOKUP(E44,Avst!I:J,2,FALSE),\"\")","v":""},{"$f":"IF(E45,VLOOKUP(E45,Avst!I:J,2,FALSE),\"\")","v":""},null,null,null,"M",{"$f":"IF(E45,VLOOKUP(CONCATENATE(MIN(E44,E45),\"-\",MAX(E44,E45)),Avst!A:B,2,FALSE),\"\")","v":""},null,null,null,null,"00:00:00","",""]
[{"$f":"IF(E45,VLOOKUP(E45,Avst!I:J,2,FALSE),\"\")","v":""},{"$f":"IF(E46,VLOOKUP(E46,Avst!I:J,2,FALSE),\"\")","v":""},null,null,null,"M",{"$f":"IF(E46,VLOOKUP(CONCATENATE(MIN(E45,E46),\"-\",MAX(E45,E46)),Avst!A:B,2,FALSE),\"\")","v":""},null,null,null,null,"00:00:00","",""]
[{"$f":"IF(E46,VLOOKUP(E46,Avst!I:J,2,FALSE),\"\")","v":""},{"$f":"IF(E47,VLOOKUP(E47,Avst!I:J,2,FALSE),\"\")","v":""},null,null,null,"M",{"$f":"IF(E47,VLOOKUP(CONCATENATE(MIN(E46,E47),\"-\",MAX(E46,E47)),Avst!A:B,2,FALSE),\"\")","v":""},null,null,null,null,"00:00:00","",""]
[{"$f":"IF(E47,VLOOKUP(E47,Avst!I:J,2,FALSE),\"\")","v":""},{"$f":"IF(E48,VLOOKUP(E48,Avst!I:J,2,FALSE),\"\")","v":""},null,null,null,"M",{"$f":"IF(E48,VLOOKUP(CONCATENATE(MIN(E47,E48),\"-\",MAX(E47,E48)),Avst!A:B,2,FALSE),\"\")","v":""},null,null,null,null,"00:00:00","",""]
[{"$f":"IF(E48,VLOOKUP(E48,Avst!I:J,2,FALSE),\"\")","v":""},{"$f":"IF(E49,VLOOKUP(E49,Avst!I:J,2,FALSE),\"\")","v":""},null,null,null,"M",{"$f":"IF(E49,VLOOKUP(CONCATENATE(MIN(E48,E49),\"-\",MAX(E48,E49)),Avst!A:B,2,FALSE),\"\")","v":""},null,null,null,null,"00:00:00","",""]
[{"$f":"IF(E49,VLOOKUP(E49,Avst!I:J,2,FALSE),\"\")","v":""},{"$f":"IF(E50,VLOOKUP(E50,Avst!I:J,2,FALSE),\"\")","v":""},null,null,null,"M",{"$f":"IF(E50,VLOOKUP(CONCATENATE(MIN(E49,E50),\"-\",MAX(E49,E50)),Avst!A:B,2,FALSE),\"\")","v":""},null,null,null,null,"00:00:00","",""]
[{"$f":"IF(E50,VLOOKUP(E50,Avst!I:J,2,FALSE),\"\")","v":""},{"$f":"IF(E51,VLOOKUP(E51,Avst!I:J,2,FALSE),\"\")","v":""},null,null,null,"M",{"$f":"IF(E51,VLOOKUP(CONCATENATE(MIN(E50,E51),\"-\",MAX(E50,E51)),Avst!A:B,2,FALSE),\"\")","v":""},null,null,null,null,"00:00:00","",""]
[{"$f":"IF(E51,VLOOKUP(E51,Avst!I:J,2,FALSE),\"\")","v":""},{"$f":"IF(E52,VLOOKUP(E52,Avst!I:J,2,FALSE),\"\")","v":""},null,null,null,"M",{"$f":"IF(E52,VLOOKUP(CONCATENATE(MIN(E51,E52),\"-\",MAX(E51,E52)),Avst!A:B,2,FALSE),\"\")","v":""},null,null,null,null,"00:00:00","",""]
[{"$f":"IF(E52,VLOOKUP(E52,Avst!I:J,2,FALSE),\"\")","v":""},{"$f":"IF(E53,VLOOKUP(E53,Avst!I:J,2,FALSE),\"\")","v":""},null,null,null,"M",{"$f":"IF(E53,VLOOKUP(CONCATENATE(MIN(E52,E53),\"-\",MAX(E52,E53)),Avst!A:B,2,FALSE),\"\")","v":""},null,null,null,null,"00:00:00","",""]
[{"$f":"IF(E53,VLOOKUP(E53,Avst!I:J,2,FALSE),\"\")","v":""},{"$f":"IF(E54,VLOOKUP(E54,Avst!I:J,2,FALSE),\"\")","v":""},null,null,null,"M",{"$f":"IF(E54,VLOOKUP(CONCATENATE(MIN(E53,E54),\"-\",MAX(E53,E54)),Avst!A:B,2,FALSE),\"\")","v":""},null,null,null,null,"00:00:00","",""]
[{"$f":"IF(E54,VLOOKUP(E54,Avst!I:J,2,FALSE),\"\")","v":""},{"$f":"IF(E55,VLOOKUP(E55,Avst!I:J,2,FALSE),\"\")","v":""},null,null,null,"M",{"$f":"IF(E55,VLOOKUP(CONCATENATE(MIN(E54,E55),\"-\",MAX(E54,E55)),Avst!A:B,2,FALSE),\"\")","v":""},null,null,null,null,"00:00:00","",""]
[{"$f":"IF(E55,VLOOKUP(E55,Avst!I:J,2,FALSE),\"\")","v":""},{"$f":"IF(E56,VLOOKUP(E56,Avst!I:J,2,FALSE),\"\")","v":""},null,null,null,"M",{"$f":"IF(E56,VLOOKUP(CONCATENATE(MIN(E55,E56),\"-\",MAX(E55,E56)),Avst!A:B,2,FALSE),\"\")","v":""},null,null,null,null,"00:00:00","",""]
[{"$f":"IF(E56,VLOOKUP(E56,Avst!I:J,2,FALSE),\"\")","v":""},{"$f":"IF(E57,VLOOKUP(E57,Avst!I:J,2,FALSE),\"\")","v":""},null,null,null,"M",{"$f":"IF(E57,VLOOKUP(CONCATENATE(MIN(E56,E57),\"-\",MAX(E56,E57)),Avst!A:B,2,FALSE),\"\")","v":""},null,null,null,null,"00:00:00","",""]
[{"$f":"IF(E57,VLOOKUP(E57,Avst!I:J,2,FALSE),\"\")","v":""},{"$f":"IF(E58,VLOOKUP(E58,Avst!I:J,2,FALSE),\"\")","v":""},null,null,null,"M",{"$f":"IF(E58,VLOOKUP(CONCATENATE(MIN(E57,E58),\"-\",MAX(E57,E58)),Avst!A:B,2,FALSE),\"\")","v":""},null,null,null,null,"00:00:00","",""]
[{"$f":"IF(E58,VLOOKUP(E58,Avst!I:J,2,FALSE),\"\")","v":""},{"$f":"IF(E59,VLOOKUP(E59,Avst!I:J,2,FALSE),\"\")","v":""},null,null,null,"M",{"$f":"IF(E59,VLOOKUP(CONCATENATE(MIN(E58,E59),\"-\",MAX(E58,E59)),Avst!A:B,2,FALSE),\"\")","v":""},null,null,null,null,"00:00:00","",""]
[{"$f":"IF(E59,VLOOKUP(E59,Avst!I:J,2,FALSE),\"\")","v":""},{"$f":"IF(E60,VLOOKUP(E60,Avst!I:J,2,FALSE),\"\")","v":""},null,null,null,"M",{"$f":"IF(E60,VLOOKUP(CONCATENATE(MIN(E59,E60),\"-\",MAX(E59,E60)),Avst!A:B,2,FALSE),\"\")","v":""},null,null,null,null,"00:00:00","",""]
[{"$f":"IF(E60,VLOOKUP(E60,Avst!I:J,2,FALSE),\"\")","v":""},{"$f":"IF(E61,VLOOKUP(E61,Avst!I:J,2,FALSE),\"\")","v":""},null,null,null,"M",{"$f":"IF(E61,VLOOKUP(CONCATENATE(MIN(E60,E61),\"-\",MAX(E60,E61)),Avst!A:B,2,FALSE),\"\")","v":""},null,null,null,null,"00:00:00","",""]
[{"$f":"IF(E61,VLOOKUP(E61,Avst!I:J,2,FALSE),\"\")","v":""},{"$f":"IF(E62,VLOOKUP(E62,Avst!I:J,2,FALSE),\"\")","v":""},null,null,null,"M",{"$f":"IF(E62,VLOOKUP(CONCATENATE(MIN(E61,E62),\"-\",MAX(E61,E62)),Avst!A:B,2,FALSE),\"\")","v":""},null,null,null,null,"00:00:00","",""]
[{"$f":"IF(E62,VLOOKUP(E62,Avst!I:J,2,FALSE),\"\")","v":""},{"$f":"IF(E63,VLOOKUP(E63,Avst!I:J,2,FALSE),\"\")","v":""},null,null,null,"M",{"$f":"IF(E63,VLOOKUP(CONCATENATE(MIN(E62,E63),\"-\",MAX(E62,E63)),Avst!A:B,2,FALSE),\"\")","v":""},null,null,null,null,"00:00:00","",""]
[{"$f":"IF(E63,VLOOKUP(E63,Avst!I:J,2,FALSE),\"\")","v":""},{"$f":"IF(E64,VLOOKUP(E64,Avst!I:J,2,FALSE),\"\")","v":""},null,null,null,"M",{"$f":"IF(E64,VLOOKUP(CONCATENATE(MIN(E63,E64),\"-\",MAX(E63,E64)),Avst!A:B,2,FALSE),\"\")","v":""},null,null,null,null,"00:00:00","",""]
[{"$f":"IF(E64,VLOOKUP(E64,Avst!I:J,2,FALSE),\"\")","v":""},{"$f":"IF(E65,VLOOKUP(E65,Avst!I:J,2,FALSE),\"\")","v":""},null,null,null,"M",{"$f":"IF(E65,VLOOKUP(CONCATENATE(MIN(E64,E65),\"-\",MAX(E64,E65)),Avst!A:B,2,FALSE),\"\")","v":""},null,null,null,null,"00:00:00","",""]
[{"$f":"IF(E65,VLOOKUP(E65,Avst!I:J,2,FALSE),\"\")","v":""},{"$f":"IF(E66,VLOOKUP(E66,Avst!I:J,2,FALSE),\"\")","v":""},null,null,null,"M",{"$f":"IF(E66,VLOOKUP(CONCATENATE(MIN(E65,E66),\"-\",MAX(E65,E66)),Avst!A:B,2,FALSE),\"\")","v":""},null,null,null,null,"00:00:00","",""]
[{"$f":"IF(E66,VLOOKUP(E66,Avst!I:J,2,FALSE),\"\")","v":""},{"$f":"IF(E67,VLOOKUP(E67,Avst!I:J,2,FALSE),\"\")","v":""},null,null,null,"M",{"$f":"IF(E67,VLOOKUP(CONCATENATE(MIN(E66,E67),\"-\",MAX(E66,E67)),Avst!A:B,2,FALSE),\"\")","v":""},null,null,null,null,"00:00:00","",""]
[{"$f":"IF(E67,VLOOKUP(E67,Avst!I:J,2,FALSE),\"\")","v":""},{"$f":"IF(E68,VLOOKUP(E68,Avst!I:J,2,FALSE),\"\")","v":""},null,null,null,"M",{"$f":"IF(E68,VLOOKUP(CONCATENATE(MIN(E67,E68),\"-\",MAX(E67,E68)),Avst!A:B,2,FALSE),\"\")","v":""},null,null,null,null,{"$f":"C68+D68","v":"00:00:00"},"",""]
[{"$f":"IF(E68,VLOOKUP(E68,Avst!I:J,2,FALSE),\"\")","v":""},{"$f":"IF(E69,VLOOKUP(E69,Avst!I:J,2,FALSE),\"\")","v":""},null,null,null,{"$f":"IF(E70,\"R\",\"M\")","v":"M"},{"$f":"IF(E69,VLOOKUP(CONCATENATE(MIN(E68,E69),\"-\",MAX(E68,E69)),Avst!A:B,2,FALSE),\"\")","v":""},null,null,null,null,"00:00:00",{"$f":"IF(E69,L69-L68,\"\")","v":""},{"$f":"IF(E69,G69/M69/24,\"\")","v":""}]
[{"$f":"IF(E69,VLOOKUP(E69,Avst!I:J,2,FALSE),\"\")","v":""},{"$f":"IF(E70,VLOOKUP(E70,Avst!I:J,2,FALSE),\"\")","v":""},null,null,null,"M",{"$f":"IF(E70,VLOOKUP(CONCATENATE(MIN(E69,E70),\"-\",MAX(E69,E70)),Avst!A:B,2,FALSE),\"\")","v":""},null,null,null,null,"00:00:00","",""]
[{"$f":"IF(E70,VLOOKUP(E70,Avst!I:J,2,FALSE),\"\")","v":""},{"$f":"IF(E71,VLOOKUP(E71,Avst!I:J,2,FALSE),\"\")","v":""},null,null,null,"M",{"$f":"IF(E71,VLOOKUP(CONCATENATE(MIN(E70,E71),\"-\",MAX(E70,E71)),Avst!A:B,2,FALSE),\"\")","v":""},null,null,null,null,"00:00:00","",""]
[{"$f":"IF(E71,VLOOKUP(E71,Avst!I:J,2,FALSE),\"\")","v":""},{"$f":"IF(E72,VLOOKUP(E72,Avst!I:J,2,FALSE),\"\")","v":""},null,null,null,"M",{"$f":"IF(E72,VLOOKUP(CONCATENATE(MIN(E71,E72),\"-\",MAX(E71,E72)),Avst!A:B,2,FALSE),\"\")","v":""},null,null,null,null,"00:00:00","",""]
[{"$f":"IF(E72,VLOOKUP(E72,Avst!I:J,2,FALSE),\"\")","v":""},{"$f":"IF(E73,VLOOKUP(E73,Avst!I:J,2,FALSE),\"\")","v":""},null,null,null,"M",{"$f":"IF(E73,VLOOKUP(CONCATENATE(MIN(E72,E73),\"-\",MAX(E72,E73)),Avst!A:B,2,FALSE),\"\")","v":""},null,null,null,null,"00:00:00","",""]
[{"$f":"IF(E73,VLOOKUP(E73,Avst!I:J,2,FALSE),\"\")","v":""},{"$f":"IF(E74,VLOOKUP(E74,Avst!I:J,2,FALSE),\"\")","v":""},null,null,null,"M",{"$f":"IF(E74,VLOOKUP(CONCATENATE(MIN(E73,E74),\"-\",MAX(E73,E74)),Avst!A:B,2,FALSE),\"\")","v":""},null,null,null,null,"00:00:00","",""]
[{"$f":"IF(E74,VLOOKUP(E74,Avst!I:J,2,FALSE),\"\")","v":""},{"$f":"IF(E75,VLOOKUP(E75,Avst!I:J,2,FALSE),\"\")","v":""},null,null,null,"M",{"$f":"IF(E75,VLOOKUP(CONCATENATE(MIN(E74,E75),\"-\",MAX(E74,E75)),Avst!A:B,2,FALSE),\"\")","v":""},null,null,null,null,"00:00:00","",""]
[{"$f":"IF(E75,VLOOKUP(E75,Avst!I:J,2,FALSE),\"\")","v":""},{"$f":"IF(E76,VLOOKUP(E76,Avst!I:J,2,FALSE),\"\")","v":""},null,null,null,"M",{"$f":"IF(E76,VLOOKUP(CONCATENATE(MIN(E75,E76),\"-\",MAX(E75,E76)),Avst!A:B,2,FALSE),\"\")","v":""},null,null,null,null,"00:00:00","",""]
[{"$f":"IF(E76,VLOOKUP(E76,Avst!I:J,2,FALSE),\"\")","v":""},{"$f":"IF(E77,VLOOKUP(E77,Avst!I:J,2,FALSE),\"\")","v":""},null,null,null,"M",{"$f":"IF(E77,VLOOKUP(CONCATENATE(MIN(E76,E77),\"-\",MAX(E76,E77)),Avst!A:B,2,FALSE),\"\")","v":""},null,null,null,null,"00:00:00","",""]
[{"$f":"IF(E77,VLOOKUP(E77,Avst!I:J,2,FALSE),\"\")","v":""},{"$f":"IF(E78,VLOOKUP(E78,Avst!I:J,2,FALSE),\"\")","v":""},null,null,null,"M",{"$f":"IF(E78,VLOOKUP(CONCATENATE(MIN(E77,E78),\"-\",MAX(E77,E78)),Avst!A:B,2,FALSE),\"\")","v":""},null,null,null,null,"00:00:00","",""]
[{"$f":"IF(E78,VLOOKUP(E78,Avst!I:J,2,FALSE),\"\")","v":""},{"$f":"IF(E79,VLOOKUP(E79,Avst!I:J,2,FALSE),\"\")","v":""},null,null,null,"M",{"$f":"IF(E79,VLOOKUP(CONCATENATE(MIN(E78,E79),\"-\",MAX(E78,E79)),Avst!A:B,2,FALSE),\"\")","v":""},null,null,null,null,"00:00:00","",""]
[{"$f":"IF(E79,VLOOKUP(E79,Avst!I:J,2,FALSE),\"\")","v":""},{"$f":"IF(E80,VLOOKUP(E80,Avst!I:J,2,FALSE),\"\")","v":""},null,null,null,"M",{"$f":"IF(E80,VLOOKUP(CONCATENATE(MIN(E79,E80),\"-\",MAX(E79,E80)),Avst!A:B,2,FALSE),\"\")","v":""},null,null,null,null,"00:00:00","",""]
[{"$f":"IF(E80,VLOOKUP(E80,Avst!I:J,2,FALSE),\"\")","v":""},{"$f":"IF(E81,VLOOKUP(E81,Avst!I:J,2,FALSE),\"\")","v":""},null,null,null,"M",{"$f":"IF(E81,VLOOKUP(CONCATENATE(MIN(E80,E81),\"-\",MAX(E80,E81)),Avst!A:B,2,FALSE),\"\")","v":""},null,null,null,null,"00:00:00","",""]
[{"$f":"IF(E81,VLOOKUP(E81,Avst!I:J,2,FALSE),\"\")","v":""},{"$f":"IF(E82,VLOOKUP(E82,Avst!I:J,2,FALSE),\"\")","v":""},null,null,null,"M",{"$f":"IF(E82,VLOOKUP(CONCATENATE(MIN(E81,E82),\"-\",MAX(E81,E82)),Avst!A:B,2,FALSE),\"\")","v":""},null,null,null,null,"00:00:00","",""]
[{"$f":"IF(E82,VLOOKUP(E82,Avst!I:J,2,FALSE),\"\")","v":""},{"$f":"IF(E83,VLOOKUP(E83,Avst!I:J,2,FALSE),\"\")","v":""},null,null,null,"M",{"$f":"IF(E83,VLOOKUP(CONCATENATE(MIN(E82,E83),\"-\",MAX(E82,E83)),Avst!A:B,2,FALSE),\"\")","v":""},null,null,null,null,"00:00:00","",""]
[{"$f":"IF(E83,VLOOKUP(E83,Avst!I:J,2,FALSE),\"\")","v":""},{"$f":"IF(E84,VLOOKUP(E84,Avst!I:J,2,FALSE),\"\")","v":""},null,null,null,"M",{"$f":"IF(E84,VLOOKUP(CONCATENATE(MIN(E83,E84),\"-\",MAX(E83,E84)),Avst!A:B,2,FALSE),\"\")","v":""},null,null,null,null,"00:00:00","",""]
[{"$f":"IF(E84,VLOOKUP(E84,Avst!I:J,2,FALSE),\"\")","v":""},{"$f":"IF(E85,VLOOKUP(E85,Avst!I:J,2,FALSE),\"\")","v":""},null,null,null,"M",{"$f":"IF(E85,VLOOKUP(CONCATENATE(MIN(E84,E85),\"-\",MAX(E84,E85)),Avst!A:B,2,FALSE),\"\")","v":""},null,null,null,null,"00:00:00","",""]
[{"$f":"IF(E85,VLOOKUP(E85,Avst!I:J,2,FALSE),\"\")","v":""},{"$f":"IF(E86,VLOOKUP(E86,Avst!I:J,2,FALSE),\"\")","v":""},null,null,null,"M",{"$f":"IF(E86,VLOOKUP(CONCATENATE(MIN(E85,E86),\"-\",MAX(E85,E86)),Avst!A:B,2,FALSE),\"\")","v":""},null,null,null,null,"00:00:00","",""]
[{"$f":"IF(E86,VLOOKUP(E86,Avst!I:J,2,FALSE),\"\")","v":""},{"$f":"IF(E87,VLOOKUP(E87,Avst!I:J,2,FALSE),\"\")","v":""},null,null,null,"M",{"$f":"IF(E87,VLOOKUP(CONCATENATE(MIN(E86,E87),\"-\",MAX(E86,E87)),Avst!A:B,2,FALSE),\"\")","v":""},null,null,null,null,"00:00:00","",""]
[{"$f":"IF(E87,VLOOKUP(E87,Avst!I:J,2,FALSE),\"\")","v":""},{"$f":"IF(E88,VLOOKUP(E88,Avst!I:J,2,FALSE),\"\")","v":""},null,null,null,"M",{"$f":"IF(E88,VLOOKUP(CONCATENATE(MIN(E87,E88),\"-\",MAX(E87,E88)),Avst!A:B,2,FALSE),\"\")","v":""},null,null,null,null,"00:00:00","",""]
[{"$f":"IF(E88,VLOOKUP(E88,Avst!I:J,2,FALSE),\"\")","v":""},{"$f":"IF(E89,VLOOKUP(E89,Avst!I:J,2,FALSE),\"\")","v":""},null,null,null,"M",{"$f":"IF(E89,VLOOKUP(CONCATENATE(MIN(E88,E89),\"-\",MAX(E88,E89)),Avst!A:B,2,FALSE),\"\")","v":""},null,null,null,null,"00:00:00","",""]
[{"$f":"IF(E89,VLOOKUP(E89,Avst!I:J,2,FALSE),\"\")","v":""},{"$f":"IF(E90,VLOOKUP(E90,Avst!I:J,2,FALSE),\"\")","v":""},null,null,null,"M",{"$f":"IF(E90,VLOOKUP(CONCATENATE(MIN(E89,E90),\"-\",MAX(E89,E90)),Avst!A:B,2,FALSE),\"\")","v":""},null,null,null,null,"00:00:00","",""]
[{"$f":"IF(E90,VLOOKUP(E90,Avst!I:J,2,FALSE),\"\")","v":""},{"$f":"IF(E91,VLOOKUP(E91,Avst!I:J,2,FALSE),\"\")","v":""},null,null,null,"M",{"$f":"IF(E91,VLOOKUP(CONCATENATE(MIN(E90,E91),\"-\",MAX(E90,E91)),Avst!A:B,2,FALSE),\"\")","v":""},null,null,null,null,"00:00:00","",""]
[{"$f":"IF(E91,VLOOKUP(E91,Avst!I:J,2,FALSE),\"\")","v":""},{"$f":"IF(E92,VLOOKUP(E92,Avst!I:J,2,FALSE),\"\")","v":""},null,null,null,"M",{"$f":"IF(E92,VLOOKUP(CONCATENATE(MIN(E91,E92),\"-\",MAX(E91,E92)),Avst!A:B,2,FALSE),\"\")","v":""},null,null,null,null,"00:00:00","",""]
[{"$f":"IF(E92,VLOOKUP(E92,Avst!I:J,2,FALSE),\"\")","v":""},{"$f":"IF(E93,VLOOKUP(E93,Avst!I:J,2,FALSE),\"\")","v":""},null,null,null,"M",{"$f":"IF(E93,VLOOKUP(CONCATENATE(MIN(E92,E93),\"-\",MAX(E92,E93)),Avst!A:B,2,FALSE),\"\")","v":""},null,null,null,null,"00:00:00","",""]
[{"$f":"IF(E93,VLOOKUP(E93,Avst!I:J,2,FALSE),\"\")","v":""},{"$f":"IF(E94,VLOOKUP(E94,Avst!I:J,2,FALSE),\"\")","v":""},null,null,null,"M",{"$f":"IF(E94,VLOOKUP(CONCATENATE(MIN(E93,E94),\"-\",MAX(E93,E94)),Avst!A:B,2,FALSE),\"\")","v":""},null,null,null,null,"00:00:00","",""]
[{"$f":"IF(E94,VLOOKUP(E94,Avst!I:J,2,FALSE),\"\")","v":""},{"$f":"IF(E95,VLOOKUP(E95,Avst!I:J,2,FALSE),\"\")","v":""},null,null,null,"M",{"$f":"IF(E95,VLOOKUP(CONCATENATE(MIN(E94,E95),\"-\",MAX(E94,E95)),Avst!A:B,2,FALSE),\"\")","v":""},null,null,null,null,"00:00:00","",""]
[{"$f":"IF(E95,VLOOKUP(E95,Avst!I:J,2,FALSE),\"\")","v":""},{"$f":"IF(E96,VLOOKUP(E96,Avst!I:J,2,FALSE),\"\")","v":""},null,null,null,"M",{"$f":"IF(E96,VLOOKUP(CONCATENATE(MIN(E95,E96),\"-\",MAX(E95,E96)),Avst!A:B,2,FALSE),\"\")","v":""},null,null,null,null,"00:00:00","",""]
[{"$f":"IF(E96,VLOOKUP(E96,Avst!I:J,2,FALSE),\"\")","v":""},{"$f":"IF(E97,VLOOKUP(E97,Avst!I:J,2,FALSE),\"\")","v":""},null,null,null,"M",{"$f":"IF(E97,VLOOKUP(CONCATENATE(MIN(E96,E97),\"-\",MAX(E96,E97)),Avst!A:B,2,FALSE),\"\")","v":""},null,null,null,null,"00:00:00","",""]
[{"$f":"IF(E97,VLOOKUP(E97,Avst!I:J,2,FALSE),\"\")","v":""},{"$f":"IF(E98,VLOOKUP(E98,Avst!I:J,2,FALSE),\"\")","v":""},null,null,null,"M",{"$f":"IF(E98,VLOOKUP(CONCATENATE(MIN(E97,E98),\"-\",MAX(E97,E98)),Avst!A:B,2,FALSE),\"\")","v":""},null,null,null,null,"00:00:00","",""]
[{"$f":"IF(E98,VLOOKUP(E98,Avst!I:J,2,FALSE),\"\")","v":""},{"$f":"IF(E99,VLOOKUP(E99,Avst!I:J,2,FALSE),\"\")","v":""},null,null,null,"M",{"$f":"IF(E99,VLOOKUP(CONCATENATE(MIN(E98,E99),\"-\",MAX(E98,E99)),Avst!A:B,2,FALSE),\"\")","v":""},null,null,null,null,"00:00:00","",""]
[{"$f":"IF(E99,VLOOKUP(E99,Avst!I:J,2,FALSE),\"\")","v":""},{"$f":"IF(E100,VLOOKUP(E100,Avst!I:J,2,FALSE),\"\")","v":""},null,null,null,"M",{"$f":"IF(E100,VLOOKUP(CONCATENATE(MIN(E99,E100),\"-\",MAX(E99,E100)),Avst!A:B,2,FALSE),\"\")","v":""},null,null,null,null,{"$f":"C100+D100","v":"00:00:00"},"",""]
[{"$f":"IF(E100,VLOOKUP(E100,Avst!I:J,2,FALSE),\"\")","v":""},{"$f":"IF(E101,VLOOKUP(E101,Avst!I:J,2,FALSE),\"\")","v":""},null,null,null,"M",{"$f":"IF(E101,VLOOKUP(CONCATENATE(MIN(E100,E101),\"-\",MAX(E100,E101)),Avst!A:B,2,FALSE),\"\")","v":""},null,null,null,null,"00:00:00",{"$f":"IF(E101,L101-L100,\"\")","v":""},{"$f":"IF(E101,G101/M101/24,\"\")","v":""}]
[{"$f":"IF(E101,VLOOKUP(E101,Avst!I:J,2,FALSE),\"\")","v":""},{"$f":"IF(E102,VLOOKUP(E102,Avst!I:J,2,FALSE),\"\")","v":""},null,null,null,"M",{"$f":"IF(E102,VLOOKUP(CONCATENATE(MIN(E101,E102),\"-\",MAX(E101,E102)),Avst!A:B,2,FALSE),\"\")","v":""},null,null,null,null,"00:00:00",{"$f":"IF(E102,L102-L101,\"\")","v":""},{"$f":"IF(E102,G102/M102/24,\"\")","v":""}]
[{"$f":"IF(E102,VLOOKUP(E102,Avst!I:J,2,FALSE),\"\")","v":""},{"$f":"IF(E103,VLOOKUP(E103,Avst!I:J,2,FALSE),\"\")","v":""},null,null,null,"M",{"$f":"IF(E103,VLOOKUP(CONCATENATE(MIN(E102,E103),\"-\",MAX(E102,E103)),Avst!A:B,2,FALSE),\"\")","v":""},null,null,null,null,"00:00:00",{"$f":"IF(E103,L103-L102,\"\")","v":""},{"$f":"IF(E103,G103/M103/24,\"\")","v":""}]
[{"$f":"IF(E103,VLOOKUP(E103,Avst!I:J,2,FALSE),\"\")","v":""},{"$f":"IF(E104,VLOOKUP(E104,Avst!I:J,2,FALSE),\"\")","v":""},null,null,null,"M",{"$f":"IF(E104,VLOOKUP(CONCATENATE(MIN(E103,E104),\"-\",MAX(E103,E104)),Avst!A:B,2,FALSE),\"\")","v":""},null,null,null,null,"00:00:00",{"$f":"IF(E104,L104-L103,\"\")","v":""},{"$f":"IF(E104,G104/M104/24,\"\")","v":""}]
[{"$f":"IF(E104,VLOOKUP(E104,Avst!I:J,2,FALSE),\"\")","v":""},{"$f":"IF(E105,VLOOKUP(E105,Avst!I:J,2,FALSE),\"\")","v":""},null,null,null,"M",{"$f":"IF(E105,VLOOKUP(CONCATENATE(MIN(E104,E105),\"-\",MAX(E104,E105)),Avst!A:B,2,FALSE),\"\")","v":""},null,null,null,null,"00:00:00",{"$f":"IF(E105,L105-L104,\"\")","v":""},{"$f":"IF(E105,G105/M105/24,\"\")","v":""}]

{"sheet":"Avst","index":2,"n_rows":1382,"n_cols":14,"rows_kept":1382,"cut":false,"hidden":false,"merged":[]}
["Sträcka","Avstånd","2Kust 3Hav",null,"Sträckor Stockholm","Avst",null,null,"Punkt","Namn",null,"Startpunkt",null,"Seglingsperiod"]
["311-317",10.8,2,null,"617-637",15.5,null,null,311,"Sandhamn",null,416,null,12]
["311-321",16.5,3,null,"626-637",14,null,null,317,"Kristianopel",null,419,null,24]
["311-322",25.3,3,null,"633-637",4.5,null,null,321,"Ölands rev",null,385,null,48]
["311-327",20.9,3,null,"636-637",5.9,null,null,322,"Ölands södra grund",null,396,null,72]
["311-327",25.3,3,null,"637-639",2.5,null,null,327,"Utgrunden",null,410,null,96]
["317-321",13.4,3,null,"637-642",9,null,null,328,"Segerstad",null,412,null,120]
["317-322",21.8,3,null,"637-644",17,null,null,329,"Mittgrunden",null,414]
["317-327",10.1,2,null,"637-647",19.899999999999999,null,null,330,"Mörbylånga",null,415]
["317-329",15.8,2,null,"639-670",32.200000000000003,null,null,332,"Trädgårdsgr.",null,416]
["321-322",9,3,null,"642-665",23.4,null,null,333,"Ölandsbron",null,418]
["321-327",17.3,3,null,"642-670",26.3,null,null,336,"Sillåsen",null,419]
["321-328",17.399999999999999,3,null,"648-650",9.4,null,null,338,"Kapelludden",null,421]
["321-328",20.9,3,null,"648-652",18.3,null,null,339,"Solidsgrund",null,429]
["321-500",73.5,3,null,"648-655",20.7,null,null,341,"Slottsbredan",null,441]
["321-502",87.5,3,null,"648-664",14.5,null,null,342,"Stengrund",null,442]
["322-328",18.3,3,null,"648-665",21,null,null,344,"Dämman",null,443]
["322-500",69,3,null,"648-671",20.5,null,null,345,"Sandvik",null,447]
["322-502",84.5,3,null,"648-683",38.6,null,null,347,"Norstö",null,448]
["327-329",6.4,2,null,"649-650",3.1,null,null,348,"Klockaren",null,449]
["327-330",10.6,2,null,"650-652",9,null,null,350,"Horns udde",null,450]
["327-332",15.7,2,null,"650-654",13,null,null,351,"Blå Jungfrun",null,452]
["328-338",28.6,3,null,"650-655",11.6,null,null,353,"Oskarshamn",null,455]
["328-500",59,3,null,"650-656",4.7,null,null,354,"Finnrevet",null,456]
["328-502",70.5,3,null,"650-657",6,null,null,356,"Knölen",null,457]
["329-330",5,2,null,"650-659",12.3,null,null,357,"Bennen",null,458]
["329-332",9.6,2,null,"650-664",15.4,null,null,359,"Byxelkrok",null,460]
["330-332",5.0999999999999996,2,null,"652-655",3.5,null,null,360,"Hommeskär",null,461]
["332-333",3.4,2,null,"652-656",6.5,null,null,363,"Flisgrund",null,531]
["333-336",6.1,2,null,"652-659",5.2,null,null,364,"Bredgrund",null,532]
["336-339",7.4,2,null,"652-661",7.9,null,null,366,"Blackan",null,533]
["336-341",10.5,2,null,"652-662",9,null,null,367,"Ölands norra grund"]
["338-356",30.3,3,null,"652-664",20.2,null,null,369,"Strupö Ljungsk."]
["338-500",41,3,null,"653-654",1.5,null,null,370,"Mannen"]
["338-501",43.8,3,null,"653-655",2.6,null,null,372,"Knolls Grund"]
["338-502",44.6,3,null,"654-655",1.8,null,null,373,"Solstadsgruva"]
["338-504",56,3,null,"654-659",2.2000000000000002,null,null,375,"Vinkelgrund"]
["339-341",3.3,2,null,"655-656",8,null,null,376,"V Eknö"]
["339-345",14.4,2,null,"655-659",3.3,null,null,378,"Alhällan"]
["341-342",4.2,2,null,"655-661",6.3,null,null,379,"Fyrken"]
["341-344",8.3000000000000007,2,null,"655-662",7.2,null,null,381,"Bussgrund"]
["341-345",11.8,2,null,"655-664",20.5,null,null,384,"Kungsgrundet"]
["341-351",20.399999999999999,2,null,"656-659",8,null,null,385,"Idö"]
["341-359",27.4,2,null,"656-661",6.4,null,null,387,"Sladö Ask"]
["341-363",32,2,null,"656-662",9.4,null,null,388,"Lusärna"]
["342-344",4.8,2,null,"656-664",14,null,null,391,"Högö"]
["342-345",9.4,2,null,"656-665",27.8,null,null,393,"Storkläpp"]
["344-345",5.3,2,null,"656-667",14.6,null,null,396,"Flåtarna"]
["344-347",6.5,2,null,"657-661",13.3,null,null,397,"Björkö"]
["344-348",5.8,2,null,"657-664",10.8,null,null,400,"Prickhällan"]
["344-350",10.5,2,null,"657-665",21.1,null,null,401,"Skallen"]
["344-351",12.1,2,null,"657-667",19.5,null,null,402,"Torrö Stickskär"]
["344-359",19.3,2,null,"657-678",29,null,null,403,"Lilla Ålö"]
["344-366",25.4,2,null,"659-661",4.5,null,null,404,"Ljusklabb"]
["345-348",8.5,2,null,"659-662",4.8,null,null,406,"Hägerökarten"]
["345-350",7.8,2,null,"659-664",19.3,null,null,407,"Häradsskär"]
["345-351",11.2,2,null,"661-662",3,null,null,408,"Sandö"]
["345-354",13.7,2,null,"661-664",14.8,null,null,409,"Sörbåden"]
["347-348",3.2,2,null,"661-667",9,null,null,410,"Håskö"]
["347-353",9.6,2,null,"661-668",12,null,null,411,"Vikasgrunden"]
["348-350",8.9,2,null,"661-671",22.9,null,null,412,"Enskär"]
["348-351",8,2,null,"661-686",29.7,null,null,413,"Sänkbåden"]
["348-353",8.6,2,null,"662-664",16.8,null,null,414,"Horvelsö"]
["348-354",7.6,2,null,"662-667",7.1,null,null,415,"Klacksten"]
["350-351",4.9000000000000004,2,null,"662-668",9.6999999999999993,null,null,416,"Arkö"]
["350-354",9,2,null,"662-671",24.9,null,null,418,"Norra Fällbådan"]
["350-359",9,2,null,"662-672",11.6,null,null,419,"Fyrudden"]
["351-354",4.2,2,null,"664-665",15.5,null,null,420,"Lilla Pukö"]
["351-357",4.7,2,null,"664-667",16.2,null,null,421,"Arköbådan"]
["351-359",8.5,2,null,"664-671",8.6,null,null,422,"Grytögrund"]
["351-363",12.9,2,null,"664-672",19.3,null,null,423,"Getteröströmmen"]
["351-366",13.4,2,null,"664-675",21.6,null,null,425,"Finnfjärden"]
["351-367",18.3,2,null,"664-678",21.9,null,null,427,"Stora Utterklabben"]
["351-384",26.3,2,null,"664-680",24,null,null,429,"Bärsänkan"]
["353-354",5.5,2,null,"664-686",28.3,null,null,431,"Olsösundet"]
["353-360",6.9,2,null,"664-696",42,null,null,433,"Månggrenarna"]
["354-357",4.5,2,null,"664-740",97.5,null,null,438,"St Juten"]
["354-360",4.8,2,null,"664-938",82,null,null,439,"Algersgrund"]
["356-363",6,3,null,"664-944",61.5,null,null,440,"Säterholmen"]
["356-367",11.2,3,null,"665-670",6.3,null,null,441,"Lönö"]
["356-372",17.7,3,null,"665-671",10.3,null,null,442,"Marö"]
["356-500",38.9,3,null,"665-686",37.799999999999997,null,null,443,"Lilla Alen"]
["356-501",31.6,3,null,"665-944",47.3,null,null,444,"Mesen"]
["356-502",24.3,3,null,"667-668",4.0999999999999996,null,null,445,"Klasgrunden"]
["356-504",31.5,3,null,"667-671",22.1,null,null,446,"Oxelösund"]
["357-359",8.3000000000000007,2,null,"667-672",4.9000000000000004,null,null,447,"Marieskär"]
["357-360",4.8,2,null,"667-678",11.4,null,null,448,"Ledskär"]
["357-363",11.9,2,null,"667-683",36.9,null,null,449,"Espskärsklubb"]
["357-364",5.3,2,null,"668-672",2.9,null,null,450,"Håldämman"]
["357-367",16.100000000000001,3,null,"668-674",6.1,null,null,451,"Tvären"]
["359-363",4.4000000000000004,2,null,"670-671",14.2,null,null,452,"Herrsäten"]
["359-364",9.4,2,null,"670-683",17.399999999999999,null,null,453,"Hållsviken"]
["359-366",10,2,null,"670-686",39.700000000000003,null,null,454,"Persö"]
["359-367",10.4,3,null,"670-696",47.5,null,null,455,"Asenskallen"]
["359-372",20.2,3,null,"670-709",54,null,null,456,"Rökogrundet"]
["359-379",20,2,null,"670-716",69,null,null,457,"Käringhällan"]
["359-384",21.6,3,null,"670-740",92,null,null,458,"Svarthäll"]
["360-364",7.2,2,null,"670-936",83,null,null,459,"Trosa"]
["363-364",11.3,2,null,"670-937",75,null,null,460,"Stenskär"]
["363-366",10.1,2,null,"670-938",63,null,null,461,"Regarn"]
["363-367",6.5,3,null,"670-944",45.8,null,null,462,"Ursulas Grund"]
["363-372",15.8,3,null,"671-672",23.9,null,null,463,"Kopparnageln"]
["363-375",15.4,2,null,"671-675",25.6,null,null,464,"Gustaf Dalén"]
["363-384",19.600000000000001,3,null,"671-678",24.2,null,null,465,"Lillhammarsgrund"]
["363-501",36.200000000000003,3,null,"671-680",25.2,null,null,466,"Hartsön"]
["363-502",28,3,null,"671-683",19.3,null,null,467,"Lacka-Trutbåde"]
["363-504",32,3,null,"671-686",27.8,null,null,468,"Köpman"]
["363-505",40.6,3,null,"671-696",38.799999999999997,null,null,469,"Gäddan"]
["364-366",4.3,2,null,"671-740",91,null,null,490,"Faludden"]
["364-367",13.4,3,null,"672-674",3.7,null,null,491,"Söderbriten"]
["364-369",6.1,2,null,"672-675",3.1,null,null,492,"Laus Holmar"]
["364-370",8,2,null,"672-677",6.2,null,null,493,"Briterne"]
["366-367",10.1,3,null,"672-678",7.1,null,null,494,"Skenalden Stg"]
["366-369",3.7,2,null,"672-683",36.6,null,null,496,"Fårö Södergrund"]
["366-375",7.3,2,null,"674-675",3.2,null,null,497,"Bungeör"]
["366-384",12.9,3,null,"674-677",4.5999999999999996,null,null,499,"Fårö fyr"]
["367-369",12.7,3,null,"674-678",7.7,null,null,500,"Hoburgs Rev"]
["367-372",11,3,null,"675-677",3.2,null,null,501,"Deppo"]
["367-379",14.9,3,null,"675-678",5.5,null,null,502,"St Karlsö"]
["367-384",14.7,3,null,"677-678",3.8,null,null,504,"Gnisvärdsgrund"]
["367-385",19.7,3,null,"677-680",5.8,null,null,505,"Visby"]
["367-393",24.1,3,null,"677-681",7.3,null,null,506,"Stenkyrkehuk"]
["367-401",32.5,3,null,"677-685",10.8,null,null,507,"Hallshuk"]
["367-407",39.799999999999997,3,null,"677-686",12,null,null,508,"Svingrund"]
["367-411",45,3,null,"678-680",3.3,null,null,509,"Salvorev"]
["367-464",67.5,3,null,"678-681",7.7,null,null,510,"Gotska Sandön"]
["367-500",47.5,3,null,"678-683",33.1,null,null,511,"Kopparstenarna"]
["367-501",37.9,3,null,"680-681",6.2,null,null,512,"Landsorts ang"]
["367-502",27.9,3,null,"680-683",32.200000000000003,null,null,513,"Grän"]
["367-504",29.4,3,null,"680-685",7.2,null,null,514,"Storskär"]
["367-511",92,3,null,"680-686",6.6,null,null,515,"Borgsbredan"]
["367-512",75,3,null,"681-685",5.3,null,null,516,"Ost Huvudskär"]
["367-513",89,3,null,"681-686",8.5,null,null,517,"Norsten"]
["367-515",97,3,null,"681-687",8.3000000000000007,null,null,518,"Dämban"]
["367-516",108,3,null,"683-686",30.8,null,null,519,"Södergrund"]
["367-518",106,3,null,"683-690",32.299999999999997,null,null,520,"Almagrundet"]
["367-520",118,3,null,"683-696",33.299999999999997,null,null,521,"Revengegrundet"]
["369-370",3,2,null,"683-709",38.299999999999997,null,null,522,"Svenska Högarna"]
["369-372",22.7,3,null,"683-716",52,null,null,523,"Tröskeln Västra"]
["369-375",5.7,2,null,"683-720",55,null,null,524,"Själhäll"]
["369-507",68.5,3,null,"683-740",75,null,null,525,"Strandholmen"]
["369-510",92,3,null,"685-686",4.4000000000000004,null,null,526,"Vitsgarnssund"]
["369-511",99.5,3,null,"685-687",4.2,null,null,527,"Norra Hårsfjärden"]
["369-516",115,3,null,"685-689",4.4000000000000004,null,null,529,"Grisskär"]
["370-373",6,2,null,"685-690",7.5,null,null,530,"Landsorts Bredgrun"]
["370-376",4,2,null,"685-692",8.6999999999999993,null,null,531,"Skrapan"]
["370-378",4.4000000000000004,2,null,"686-689",4.3,null,null,532,"Lökviks N Häll"]
["372-384",19.899999999999999,3,null,"686-690",4.8,null,null,533,"Måsknuv"]
["372-393",27.2,3,null,"686-696",16.2,null,null,534,"Ö Rökö"]
["372-401",32.799999999999997,3,null,"686-936",110,null,null,535,"Rånögrund"]
["372-407",38.700000000000003,3,null,"686-937",109,null,null,536,"Mysingeholm"]
["372-411",41.9,3,null,"687-692",5.8,null,null,537,"St Rotholmen"]
["372-413",45.6,3,null,"689-690",2.6,null,null,538,"Dalarö skans"]
["372-413",45.6,0,null,"689-692",4.9000000000000004,null,null,539,"Finnklippan"]
["372-464",63,3,null,"689-693",9,null,null,540,"Rönnskär"]
["372-500",45,3,null,"689-697",13.2,null,null,541,"Långbäling"]
["372-501",33.5,3,null,"690-692",5.6,null,null,542,"Aspskär"]
["372-502",21.8,3,null,"690-693",8.6,null,null,543,"Högskeppsskär"]
["372-504",19.8,3,null,"690-696",11.8,null,null,544,"Boskapsön"]
["372-505",26.4,3,null,"690-697",11.6,null,null,545,"Farfarsgrundet"]
["372-507",47.1,3,null,"692-693",5.0999999999999996,null,null,546,"Stenklippan"]
["372-510",73,3,null,"692-696",12.3,null,null,547,"Skurhatten"]
["372-511",82,3,null,"692-697",10.6,null,null,548,"Slätkobben"]
["372-512",69,3,null,"693-695",5.4,null,null,549,"Farfarskobben"]
["372-513",82,3,null,"693-696",9.1999999999999993,null,null,550,"Storgrundet"]
["372-516",99,3,null,"693-697",6.6,null,null,551,"Fjärdhällan"]
["372-520",110,3,null,"693-698",6.1,null,null,552,"Grönö"]
["373-378",8,2,null,"693-699",8.4,null,null,553,"Radiomast Stavsnäs"]
["375-379",3.4,2,null,"695-697",7.2,null,null,554,"Malma"]
["375-384",5.9,3,null,"695-698",4.7,null,null,555,"Stavsnäs"]
["376-378",6,2,null,"695-699",6.8,null,null,556,"Pålkobb"]
["376-381",5.0999999999999996,2,null,"696-697",4,null,null,557,"Tvikobb"]
["378-379",3.7,2,null,"696-698",7.1,null,null,558,"Angödrommen"]
["378-381",3.7,2,null,"696-700",3.5,null,null,559,"Morsken"]
["378-385",6.8,2,null,"696-702",9.4,null,null,560,"Hundskärsknuv"]
["379-381",2.1,2,null,"696-704",7.2,null,null,561,"Kudoxa"]
["379-384",3.6,3,null,"696-705",9.4,null,null,562,"Remmargrund"]
["379-385",4.5999999999999996,2,null,"696-709",11.1,null,null,563,"Utterkobben"]
["379-388",8.6,2,null,"696-934",113,null,null,564,"Köpmansgrund"]
["381-385",3.2,2,null,"696-936",106,null,null,566,"Gällnöport"]
["381-388",6.4,2,null,"696-937",108,null,null,567,"Delö"]
["384-385",6,3,null,"696-938",104,null,null,568,"Trulsör"]
["384-387",4.5999999999999996,3,null,"697-698",3.9,null,null,569,"Kummelgrund"]
["384-393",9.6999999999999993,3,null,"697-699",7.2,null,null,570,"Blåbärsholmen"]
["384-401",19.3,3,null,"697-700",4.9000000000000004,null,null,571,"Äpplarö"]
["384-407",27.2,3,null,"697-702",6.9,null,null,577,"N Kanholmen"]
["384-411",33.799999999999997,3,null,"697-704",6.6,null,null,578,"Boda"]
["384-464",57.5,3,null,"697-705",7.6,null,null,579,"Stinagrund"]
["384-502",41,3,null,"698-699",3.7,null,null,580,"Allegrogrund"]
["384-505",43.9,3,null,"698-700",6.7,null,null,581,"Linanäs"]
["384-507",61,3,null,"698-702",4.0999999999999996,null,null,582,"Gullholmen"]
["384-510",82.5,3,null,"698-704",6.1,null,null,583,"Lunsen"]
["384-511",89.5,3,null,"698-705",5.9,null,null,584,"Baldersgrundet"]
["384-512",67,3,null,"699-702",6.5,null,null,585,"Furusund"]
["384-513",81.5,3,null,"699-704",8.6999999999999993,null,null,586,"Kapellskär"]
["384-515",90.5,3,null,"699-705",8.1999999999999993,null,null,587,"Tyvö"]
["384-516",103,3,null,"700-702",8.1999999999999993,null,null,588,"Lidö"]
["384-518",102,3,null,"700-704",4.2,null,null,589,"Gransättra"]
["384-520",112,3,null,"700-705",7,null,null,590,"Svedudden"]
["385-387",3.1,2,null,"700-709",7.8,null,null,591,"Simpnäsklubb"]
["385-388",4.3,2,null,"700-710",11.3,null,null,592,"Bysholmen"]
["385-391",6.6,2,null,"700-712",13.7,null,null,617,"Svartklubben"]
["385-393",7.9,2,null,"702-704",5.3,null,null,619,"Jyret"]
["385-396",10.6,2,null,"702-705",3.7,null,null,620,"Hensviksudde"]
["387-388",5.5,2,null,"702-706",8,null,null,621,"Hargshamn"]
["387-391",7.1,2,null,"704-705",3.2,null,null,624,"Råstensudde"]
["387-393",5.7,2,null,"704-706",3.4,null,null,626,"Tomasskären"]
["387-396",8.1999999999999993,2,null,"705-706",5.6,null,null,627,"Understen"]
["391-396",6.4,2,null,"705-707",3.3,null,null,629,"Märketskallen"]
["391-397",4.8,2,null,"705-708",5.2,null,null,631,"Käringön"]
["393-396",3.8,2,null,"707-708",3.1,null,null,633,"Hoppets grund"]
["393-400",6.5,2,null,"709-710",5,null,null,635,"Bellonagrundet"]
["393-401",10.5,2,null,"709-712",7.1,null,null,636,"Södra kvarken"]
["393-407",19.2,2,null,"709-713",10.6,null,null,639,"Dittmansgrund"]
["393-505",47.9,3,null,"709-716",17.7,null,null,641,"Engelska grundet"]
["393-507",62,3,null,"709-718",20,null,null,642,"Giffards grund"]
["393-509",83.5,3,null,"709-740",50.5,null,null,644,"Örskär"]
["393-510",80.5,3,null,"709-934",106,null,null,645,"Knuten"]
["393-511",86,3,null,"709-936",104,null,null,647,"Argos"]
["393-512",60.5,3,null,"709-937",108,null,null,648,"Järngrund"]
["393-516",99,3,null,"709-938",107,null,null,649,"Lövstabukten"]
["396-397",3.8,2,null,"710-712",5.4,null,null,656,"Väktaren"]
["396-400",9.1999999999999993,2,null,"712-713",4.5,null,null,657,"Camps grund"]
["400-401",4.9000000000000004,2,null,"712-715",10.4,null,null,942,"Prästö"]
["400-402",3.8,2,null,"713-715",6,null,null,943,"Sviskär"]
["401-402",3.2,2,null,"713-716",8.6999999999999993,null,null,944,"Järngrynnorna"]
["401-404",5.0999999999999996,2,null,"713-717",8.9,null,null,945,"Kallan"]
["401-406",7.2,2,null,"713-718",11.8,null,null,946,"Ådskär"]
["401-407",8.1,2,null,"715-716",6,null,null,947,"O Midfjärdsbådan"]
["401-409",13.3,2,null,"715-717",4.2,null,null,948,"Solovjeva"]
["401-411",15.8,3,null,"715-720",13.7,null,null,950,"Utbådan"]
["401-505",49,3,null,"716-717",3.8,null,null,951,"Marhällan"]
["401-507",59,3,null,"716-718",3.5,null,null,952,"Rödhamn"]
["401-516",90,3,null,"716-722",10.1,null,null,953,"Kalkgrund"]
["402-403",6.5,2,null,"716-723",9.8000000000000007,null,null,954,"Sälsö"]
["402-404",4.8,2,null,"716-724",13.5,null,null,955,"Kökar"]
["402-407",9.5,2,null,"716-740",68.5,null,null,956,"Söderkobben"]
["403-404",2.9,2,null,"716-934",101,null,null,959,"Halder"]
["403-406",4,2,null,"716-936",107,null,null,960,"Fästorna"]
["403-408",6.4,2,null,"717-718",6.2,null,null,961,"Vitkubben"]
["403-419",6.9,2,null,"717-720",10.1,null,null,962,"Flötjan"]
["403-422",2.9,2,null,"717-722",9.8000000000000007,null,null,963,"Armbågen Ö"]
["404-406",3.3,2,null,"717-723",8.5,null,null,964,"Bogskär"]
["404-407",5.3,2,null,"717-724",13.8,null,null,965,"Finlands Lejon"]
["404-419",7.2,2,null,"718-720",4.9000000000000004,null,null,966,"Finska Utö"]
["406-407",2.4,2,null,"718-722",8.1999999999999993,null,null,967,"Stenkläpparna"]
["406-408",2.9,2,null,"718-723",8.8000000000000007,null,null,968,"Borstö"]
["406-419",4.3,2,null,"718-724",11,null,null,969,"Idskär"]
["407-408",2.7,2,null,"720-722",5.9,null,null,970,"Bengtskär"]
["407-409",5.7,2,null,"720-723",8.8000000000000007,null,null,971,"Utterklint"]
["407-411",8.6999999999999993,3,null,"720-724",7,null,null,972,"Norra Östersjön"]
["407-419",4.8,2,null,"720-740",26.4,null,null,973,"Apollo"]
["407-502",59.5,3,null,"722-723",2.9,null,null,974,"Glotova"]
["407-505",51,3,null,"722-724",4.4000000000000004,null,null,975,"Hiiu norr"]
["407-507",58,3,null,"722-726",7.6,null,null,976,"Hiiu väst"]
["407-509",76,3,null,"722-727",11.3,null,null,977,"Neupokojeva"]
["407-510",70.5,3,null,"722-728",12.3,null,null,978,"Sõru angöring"]
["407-511",73.5,3,null,"722-735",12.3,null,null,979,"Tagamõisa"]
["408-409",5.7,2,null,"723-724",6.9,null,null,980,"Suurkuiv"]
["408-410",6.4,2,null,"723-726",8.6,null,null,981,"Uuskuiv"]
["408-419",2.5,2,null,"723-727",12.9,null,null,982,"Irbe norra angörin"]
["408-423",5.8,2,null,"723-728",13.8,null,null,983,"Bezimjanaja väst"]
["409-410",6.5,2,null,"723-735",13.8,null,null,984,"Vinkova väst"]
["409-411",3.9,3,null,"724-726",6.5,null,null,985,"Bezimjanaja ost"]
["409-413",6.4,3,null,"724-727",9.3000000000000007,null,null,986,"Irbe södra angörin"]
["409-419",6.5,2,null,"724-734",12.1,null,null,987,"Ventspils norr"]
["409-423",8.4,2,null,"724-735",9.1999999999999993,null,null,988,"Ventspils syd"]
["409-427",4.5999999999999996,2,null,"724-738",15.2,null,null,989,"Somiteljana"]
["409-429",7.3,2,null,"724-740",21.8]
["410-412",3,2,null,"724-741",20.2]
["410-419",5.0999999999999996,2,null,"724-934",94.5]
["410-425",4.3,2,null,"724-936",107]
["410-427",3.2,2,null,"724-937",116]
["410-429",5.7,2,null,"724-938",121]
["410-431",4.2,2,null,"724-944",121]
["411-413",3.8,3,null,"726-727",4.5999999999999996]
["411-427",5.9,3,null,"726-728",5.4]
["411-429",6.8,3,null,"726-733",6.9]
["411-511",65.5,3,null,"726-735",6.9]
["411-516",75.5,3,null,"726-740",22.8]
["412-414",5.7,2,null,"727-728",5.0999999999999996]
["412-423",4.9000000000000004,2,null,"727-729",8.4]
["412-425",4.4000000000000004,2,null,"727-730",10.5]
["412-427",3.1,2,null,"727-731",10.8]
["412-429",3.2,2,null,"727-732",9.3000000000000007]
["412-431",3.3,2,null,"727-733",3.2]
["412-433",5.5,2,null,"727-734",3.1]
["413-415",5.3,3,null,"727-735",4]
["413-418",9.6,3,null,"727-737",9.5]
["413-421",10.8,3,null,"727-738",9.6]
["413-427",5.7,3,null,"727-740",20.2]
["413-429",4.5,3,null,"728-729",3.9]
["413-462",15.1,3,null,"728-730",5.9]
["413-464",20.100000000000001,3,null,"728-733",5.4]
["413-502",64.5,3,null,"728-734",7.6]
["413-505",52.5,3,null,"729-730",3.5]
["413-507",54,3,null,"729-733",8.6]
["413-509",70,3,null,"730-731",3.3]
["413-510",62,3,null,"730-732",6.5]
["413-511",64,3,null,"730-733",10.6]
["413-512",31.4,3,null,"731-732",3.4]
["413-515",56.5,3,null,"731-733",8]
["413-516",73,3,null,"731-734",9.3000000000000007]
["413-530",34,3,null,"732-733",6.4]
["414-416",4.8,2,null,"732-734",7.6]
["414-418",8.8000000000000007,2,null,"733-734",3.3]
["414-420",6.8,2,null,"733-735",7]
["414-431",4.2,2,null,"734-735",4]
["414-433",4.4000000000000004,2,null,"734-737",9.4]
["414-443",10.3,2,null,"734-738",9.6]
["415-418",4.5,2,null,"735-737",6.1]
["415-421",5.8,3,null,"735-738",6.2]
["415-429",4.5999999999999996,2,null,"735-740",16.3]
["415-433",5.9,2,null,"735-741",11.5]
["415-464",16.100000000000001,3,null,"737-738",4.3]
["415-512",28.5,3,null,"738-740",12.9]
["416-418",5,2,null,"738-741",5.6]
["416-420",7.3,2,null,"740-741",10.7]
["416-431",8.6999999999999993,2,null,"740-934",81]
["416-433",5,2,null,"740-936",102]
["416-441",10,2,null,"934-936",47.9]
["416-442",5.8,2,null,"936-937",22.1]
["416-443",5.6,2,null,"937-938",25.9]
["416-463",13.1,2,null,"937-944",52]
["418-420",12.2,2,null,"938-944",28.2]
["418-421",4,3,null,"938-945",35]
["418-433",4.2,2]
["418-441",15,2]
["418-442",10.8,2]
["418-443",7.1,2]
["418-445",11.1,2]
["418-462",8.9,3]
["418-463",13,2]
["418-464",14.6,3]
["418-505",61.5,3]
["418-506",56.5,3]
["418-507",60.5,3]
["418-508",68,3]
["418-509",74.5,3]
["418-510",65,3]
["418-511",65,3]
["418-512",27.8,3]
["418-530",29.7,3]
["419-423",4.2,2]
["419-427",7.3,2]
["420-425",7.1,2]
["420-431",9.6999999999999993,2]
["420-433",9.3000000000000007,2]
["420-443",12.9,2]
["421-443",7.6,3]
["421-462",5.0999999999999996,3]
["421-463",8.6999999999999993,3]
["421-502",74.5,3]
["421-505",60.5,3]
["421-507",58,3]
["421-510",61,3]
["421-511",60.5,3]
["421-516",67,3]
["423-425",5.3,2]
["423-431",5.9,2]
["425-427",6.5,2]
["425-431",4.4000000000000004,2]
["427-429",3.4,2]
["429-433",5.3,2]
["431-433",4.8,2]
["433-443",10.3,2]
["438-439",4.8,2]
["439-440",4.3,2]
["440-441",6.2,2]
["440-444",13,2]
["441-442",5.0999999999999996,2]
["441-443",9.1,2]
["441-444",6.8,2]
["442-443",4.4000000000000004,2]
["442-444",4.4000000000000004,2]
["442-445",7.5,2]
["443-444",4.5999999999999996,2]
["443-445",4.9000000000000004,2]
["443-447",9.1999999999999993,2]
["443-462",9.3000000000000007,3]
["443-463",8.4,2]
["444-445",3.6,2]
["445-446",1.7,2]
["445-447",4.5,2]
["445-462",9.5,3]
["445-463",6.1,2]
["446-447",2.9,2]
["446-448",4.3,2]
["446-463",6,2]
["447-448",1.8,2]
["447-463",4.9000000000000004,2]
["447-465",5.2,2]
["447-466",8.1,2]
["448-449",3.6,2]
["448-463",6.5,2]
["448-465",4.9000000000000004,2]
["448-466",7.6,2]
["449-450",3.7,2]
["449-465",3.7,2]
["449-466",4.7,2]
["449-468",7.9,2]
["450-451",2.2000000000000002,2]
["450-452",2.9,2]
["450-465",5.7,2]
["450-466",2.8,2]
["451-452",3.6,2]
["451-466",5.2,2]
["452-453",6.5,2]
["452-454",4.4000000000000004,2]
["452-455",6.3,2]
["452-458",8.5,2]
["452-459",8,2]
["452-467",3.6,2]
["453-454",5,2]
["453-458",6.6,2]
["453-467",8.3000000000000007,2]
["454-455",2.7,2]
["454-458",6.1,2]
["454-459",5.0999999999999996,2]
["454-467",4.0999999999999996,2]
["455-456",2.2999999999999998,2]
["455-457",2.9,2]
["455-458",5.3,2]
["455-467",4.8,2]
["455-469",9.1,3]
["455-530",6.4,2]
["456-457",3.5,2]
["456-459",7.9,2]
["456-467",6.6,2]
["456-469",9.6999999999999993,3]
["456-512",7.2,3]
["456-529",2.6,2]
["456-530",4.5,2]
["456-531",6.2,2]
["456-532",6.5,2]
["457-458",3.4,2]
["457-459",4.9000000000000004,2]
["457-460",4.5999999999999996,2]
["458-459",2.2999999999999998,2]
["458-460",2.9,2]
["460-461",3.5,2]
["462-463",4.8,3]
["462-464",5.7,3]
["462-465",7.9,3]
["463-464",5.7,3]
["463-465",3.9,2]
["463-468",6.8,2]
["464-465",5.4,3]
["464-466",6.9,3]
["464-468",2.8,3]
["464-469",6,3]
["464-502",80,3]
["464-505",63,3]
["464-507",56.5,3]
["464-508",63.5,3]
["464-509",67,3]
["464-510",54.5,3]
["464-511",52.5,3]
["464-512",13.4,3]
["464-530",15.2,3]
["464-977",135,3]
["464-979",132,3]
["464-980",131,3]
["464-981",128,3]
["464-982",142,3]
["465-466",4.2,2]
["465-468",4.7,2]
["466-467",8,2]
["466-468",4.5,2]
["467-469",5.6,3]
["467-512",9.3000000000000007,3]
["467-530",8.8000000000000007,2]
["468-469",4.3,3]
["469-510",50,3]
["469-511",47.2,3]
["469-512",7.5,3]
["469-516",51,3]
["469-529",10.7,3]
["469-530",9.3000000000000007,3]
["490-491",8.6999999999999993,3]
["490-500",12.2,3]
["490-983",91.5,3]
["490-984",100,3]
["490-985",95,3]
["490-986",108,3]
["490-987",101,3]
["490-988",100,3]
["490-989",97.5,3]
["491-492",12.5,3]
["491-983",84,3]
["491-984",93.5,3]
["491-985",88,3]
["491-986",101,3]
["491-987",95.5,3]
["491-988",94.5,3]
["491-989",91.5,3]
["492-493",13.2,3]
["492-494",25.5,3]
["492-979",120,3]
["492-980",112,3]
["492-981",106,3]
["492-983",73,3]
["492-984",83,3]
["492-985",77,3]
["492-986",91.5,3]
["492-987",86,3]
["492-988",85,3]
["492-989",83,3]
["493-494",14.3,3]
["493-496",21.5,3]
["493-497",22.4,3]
["493-499",32.799999999999997,3]
["493-510",57,3]
["493-977",123,3]
["493-979",107,3]
["493-980",100,3]
["493-981",94.5,3]
["493-983",62.5,3]
["493-986",81.5,3]
["493-987",77,3]
["493-988",76.5,3]
["493-989",76,3]
["494-496",11.3,3]
["494-497",11,2]
["494-979",102,3]
["494-980",96,3]
["494-981",91,3]
["494-982",89,3]
["494-983",64,3]
["494-986",84.5,3]
["494-987",81.5,3]
["494-988",81.5,3]
["494-989",82,3]
["496-497",3,3]
["496-499",12,3]
["496-979",92,3]
["496-980",85.5,3]
["496-981",80,3]
["496-982",80,3]
["496-983",55.5,3]
["496-986",76,3]
["496-987",74.5,3]
["496-988",74.5,3]
["496-989",76.5,3]
["497-499",13.3,3]
["497-508",7.4,2]
["499-509",8.6,3]
["499-522",88,3]
["499-523",103,3]
["499-963",99,3]
["499-964",97.5,3]
["499-965",101,3]
["499-970",143,3]
["499-972",93,3]
["499-974",116,3]
["499-977",93.5,3]
["499-979",80.5,3]
["499-980",75,3]
["499-981",70,3]
["499-982",73,3]
["499-983",49.9,3]
["499-984",60.5,3]
["499-985",55,3]
["499-986",70.5,3]
["499-987",70.5,3]
["499-988",71,3]
["499-989",74,3]
["500-501",13.6,3]
["500-502",24.8,3]
["500-986",120,3]
["500-987",113,3]
["500-988",111,3]
["500-989",108,3]
["501-502",11.8,3]
["501-504",22.8,3]
["502-504",12.8,3]
["502-512",83.5,3]
["502-513",94.5,3]
["502-515",100,3]
["502-518",108,3]
["504-505",10.8,3]
["504-512",71.5,3]
["505-506",13.4,3]
["505-507",24.2,3]
["505-512",64,3]
["505-513",74,3]
["505-515",78.5,3]
["505-518",86,3]
["505-520",96,3]
["506-507",12,3]
["506-510",39.799999999999997,3]
["506-511",51,3]
["506-512",54,3]
["506-513",62.5,3]
["506-515",66,3]
["506-516",70.5,3]
["506-518",73.5,3]
["506-520",82.5,3]
["507-508",9,3]
["507-509",21.9,3]
["507-510",29.2,3]
["507-511",41.3,3]
["507-512",53,3]
["507-513",58.5,3]
["507-515",60.5,3]
["507-516",61.5,3]
["507-518",66.5,3]
["507-520",74.5,3]
["507-530",55.5,3]
["508-509",14.7,3]
["508-510",26.7,3]
["508-512",58,3]
["508-513",62,3]
["508-515",62.5,3]
["508-518",67,3]
["508-531",61.5,3]
["509-510",17.7,3]
["509-511",30.4,3]
["509-512",58.5,3]
["509-513",59,3]
["509-522",79.5,3]
["509-531",61,3]
["509-963",91,3]
["509-964",90,3]
["509-965",94.5,3]
["509-970",138,3]
["509-972",87,3]
["509-974",112,3]
["509-975",108,3]
["509-976",105,3]
["509-977",90,3]
["509-979",79,3]
["509-980",74,3]
["509-981",69.5,3]
["509-982",76.5,3]
["509-983",54.5,3]
["509-984",64.5,3]
["509-985",59.5,3]
["509-986",74.5,3]
["509-987",76,3]
["509-988",76.5,3]
["509-989",80,3]
["510-511",13.1,3]
["510-512",44.6,3]
["510-513",42.2,3]
["510-515",39,3]
["510-518",41.5,3]
["510-530",45.5,3]
["510-531",44.9,3]
["510-533",46.2,3]
["510-964",78,3]
["510-965",84,3]
["510-970",132,3]
["510-972",79,3]
["510-974",112,3]
["510-975",110,3]
["510-976",107,3]
["510-977",89.5,3]
["510-978",106,3]
["510-979",83,3]
["510-980",80.5,3]
["510-981",77,3]
["510-982",88.5,3]
["510-983",69,3]
["510-984",78,3]
["510-985",73.5,3]
["510-986",87.5,3]
["510-987",90.5,3]
["510-988",91.5,3]
["510-989",95.5,3]
["511-512",40.6,3]
["511-513",34.1,3]
["511-515",28.3,3]
["511-516",20.8,3]
["511-518",28.9,3]
["511-519",33.6,3]
["511-522",51.5,3]
["511-530",40.5,3]
["511-531",38.700000000000003,3]
["511-533",39,3]
["511-963",64.5,3]
["511-964",66.5,3]
["511-965",74,3]
["511-970",124,3]
["511-972",70.5,3]
["511-974",104,3]
["511-975",101,3]
["511-976",99,3]
["511-977",84.5,3]
["511-978",102,3]
["511-979",79.5,3]
["511-980",79.5,3]
["511-981",76.5,3]
["511-982",94,3]
["511-983",77,3]
["511-984",85,3]
["511-985",81.5,3]
["511-986",94.5,3]
["511-988",100,3]
["511-989",105,3]
["512-513",15.1,3]
["512-514",21.9,3]
["512-515",25.4,3]
["512-516",43.3,3]
["512-530",3.4,3]
["512-531",7.6,3]
["512-974",140,3]
["512-975",138,3]
["512-976",136,3]
["512-977",122,3]
["512-978",141,3]
["512-983",112,3]
["513-514",7.4,2]
["513-516",30.8,3]
["513-531",8,2]
["513-532",7.8,2]
["513-533",5.6,2]
["513-534",7.2,2]
["513-535",5.9,2]
["513-541",11,2]
["513-977",112,3]
["513-978",132,3]
["513-979",112,3]
["513-980",113,3]
["513-981",111,3]
["514-515",3.8,2]
["514-517",11.1,2]
["514-530",19.600000000000001,2]
["514-534",10.3,2]
["514-535",11.5,2]
["514-536",8.1999999999999993,2]
["514-537",10.4,2]
["514-541",5.2,2]
["514-978",125,3]
["514-979",104,3]
["514-980",106,3]
["514-981",104,3]
["515-516",20,3]
["515-517",8.4,2]
["515-518",11.2,2]
["515-535",12.6,2]
["515-536",9.8000000000000007,2]
["515-540",21.6,2]
["515-541",5.6,2]
["515-542",12.7,2]
["515-551",13.8,2]
["515-972",79.5,3]
["515-978",121,3]
["515-979",101,3]
["515-980",103,3]
["515-981",101,3]
["515-982",121,3]
["516-518",12.8,3]
["516-519",14,3]
["516-520",13.2,3]
["516-522",32,3]
["516-530",41.9,3]
["516-531",38.299999999999997,3]
["516-563",30.5,3]
["516-963",45.7,3]
["516-964",50.5,3]
["516-965",60.5,3]
["516-970",113,3]
["516-972",60.5,3]
["516-974",97.5,3]
["516-975",96.5,3]
["516-976",94.5,3]
["516-977",81.5,3]
["516-978",101,3]
["516-979",81.5,3]
["516-980",84.5,3]
["516-981",83,3]
["516-982",105,3]
["516-983",92,3]
["516-984",99,3]
["516-985",96,3]
["516-986",107,3]
["516-989",120,3]
["517-518",4.5999999999999996,2]
["517-519",11,2]
["517-538",10.9,2]
["517-541",8.4,2]
["517-542",4.8,2]
["517-543",9.1999999999999993,2]
["518-519",7.8,2]
["518-520",12.4,3]
["518-541",12.7,2]
["518-542",7.2,2]
["518-543",7.8,2]
["518-972",69.5,3]
["518-974",107,3]
["518-975",107,3]
["518-976",105,3]
["518-977",92.5,3]
["518-978",113,3]
["519-520",5.5,3]
["519-521",6.9,2]
["519-522",26.3,3]
["519-542",10.9,2]
["519-543",4.8,2]
["519-544",7.1,2]
["519-545",9.5,2]
["519-546",12.6,2]
["519-563",21.2,2]
["519-577",15.2,2]
["520-521",6.8,3]
["520-522",21.6,3]
["520-530",46.5,3]
["520-546",12.5,3]
["520-547",11.6,3]
["520-549",23.8,3]
["520-555",16.600000000000001,3]
["520-563",17.899999999999999,3]
["520-964",43.3,3]
["520-965",55,3]
["520-972",58.5,3]
["520-974",97,3]
["520-975",97,3]
["520-976",95,3]
["520-977",83.5,3]
["520-978",105,3]
["520-979",86.5,3]
["520-980",91,3]
["520-981",90.5,3]
["520-982",115,3]
["520-983",103,3]
["520-984",109,3]
["520-985",106,3]
["520-986",117,3]
["520-989",132,3]
["521-522",20.9,3]
["521-543",8.4,2]
["521-544",9.1,2]
["521-545",5.0999999999999996,2]
["521-546",6,2]
["521-547",6.9,2]
["521-548",12.5,2]
["521-552",14.6,2]
["521-553",10.4,2]
["521-554",12.5,2]
["521-555",10.3,2]
["521-559",16.2,2]
["521-563",15.3,2]
["521-972",61,3]
["521-975",101,3]
["521-976",99.5,3]
["521-977",88,3]
["521-978",110,3]
["521-979",92,3]
["521-980",97,3]
["521-981",96.5,3]
["522-547",15.2,3]
["522-549",11,3]
["522-550",17.600000000000001,3]
["522-558",19.600000000000001,3]
["522-559",17.7,3]
["522-563",8.5,3]
["522-564",5.2,3]
["522-963",14,3]
["522-964",23.3,3]
["522-965",36.799999999999997,3]
["522-972",44,3]
["522-976",82.5,3]
["522-977",73.5,3]
["522-978",96.5,3]
["522-979",81.5,3]
["522-980",88.5,3]
["522-981",89,3]
["522-982",117,3]
["522-983",109,3]
["522-984",114,3]
["522-985",113,3]
["522-986",121,3]
["523-550",9.4,3]
["523-560",22.6,3]
["523-561",21.4,3]
["523-563",21,3]
["523-564",11.3,3]
["523-617",43.9,3]
["523-952",21,3]
["523-961",13.9,3]
["523-963",4.5999999999999996,3]
["524-525",4,2]
["524-526",7,2]
["524-527",9.5,2]
["524-532",8.5,2]
["524-533",6,2]
["524-534",2.9,2]
["524-535",3.6,2]
["525-526",3.9,2]
["525-527",6.2,2]
["526-527",3.6,2]
["526-536",3.8,2]
["526-537",4.9000000000000004,2]
["526-541",8,2]
["527-536",5.2,2]
["527-537",4.8,2]
["527-541",8.9,2]
["529-530",3.1,2]
["529-531",4,2]
["529-532",4.5,2]
["530-531",4.5999999999999996,2]
["530-532",6,2]
["530-977",121,3]
["530-978",141,3]
["530-979",119,3]
["530-983",113,3]
["530-984",123,3]
["531-532",2.1,2]
["531-533",4.3,2]
["531-977",118,3]
["531-978",138,3]
["531-979",117,3]
["531-980",118,3]
["531-982",132,3]
["532-533",2.9,2]
["533-534",3.8,2]
["534-535",3.3,2]
["535-536",4.7,2]
["535-541",8.4,2]
["536-537",4.0999999999999996,2]
["536-541",4.7,2]
["537-538",3.6,2]
["537-541",6.1,2]
["537-542",11,2]
["537-551",9.4,2]
["538-539",7.6,2]
["538-542",7.6,2]
["538-543",13.7,2]
["538-551",5.9,2]
["538-552",8.1999999999999993,2]
["539-540",4,2]
["539-541",14,2]
["539-551",5.5,2]
["539-552",4.9000000000000004,2]
["540-551",8.6,2]
["540-552",7,2]
["541-542",9.8000000000000007,2]
["541-551",10.5,2]
["542-543",7.5,2]
["542-544",6.9,2]
["542-551",3.3,2]
["542-552",6,2]
["542-553",10.7,2]
["542-554",7.9,2]
["543-544",2.8,2]
["543-545",8.5,2]
["543-551",8.1,2]
["543-552",9.1999999999999993,2]
["544-545",7.3,2]
["544-551",7.5,2]
["544-552",6.4,2]
["544-553",5.0999999999999996,2]
["544-554",4.8,2]
["544-568",15.2,2]
["545-546",4.4000000000000004,2]
["545-547",8.3000000000000007,2]
["545-551",13.6,2]
["545-552",12.1,2]
["545-553",6.3,2]
["545-554",9.8000000000000007,2]
["545-555",5.9,2]
["545-556",8.8000000000000007,2]
["545-568",9.1,2]
["545-577",6.4,2]
["545-972",65.5,3]
["546-547",4.5999999999999996,2]
["546-548",7.8,2]
["546-553",9.4,2]
["546-555",9.3000000000000007,2]
["546-556",5,2]
["546-557",7.2,2]
["546-559",10.6,2]
["546-567",11.8,2]
["546-568",7.8,2]
["546-577",7.9,2]
["547-548",6.1,2]
["547-549",12.8,2]
["547-556",8.8000000000000007,2]
["547-557",8,2]
["547-559",10.199999999999999,2]
["547-563",8.1999999999999993,2]
["547-972",58,3]
["547-977",86,3]
["547-978",108,3]
["547-979",91.5,3]
["547-980",97,3]
["547-981",97,3]
["547-982",123,3]
["547-983",112,3]
["547-984",118,3]
["547-985",116,3]
["548-549",7.5,2]
["548-556",8.3000000000000007,2]
["548-557",4.7,2]
["548-558",6,2]
["548-559",4.7,2]
["548-560",9.4,2]
["548-562",20.399999999999999,2]
["548-563",6.6,2]
["549-550",12.8,2]
["549-557",11.6,2]
["549-559",7.8,2]
["549-560",8.4,2]
["549-561",9.9,2]
["549-562",14.8,2]
["549-563",6.4,2]
["549-564",11.9,3]
["549-963",18.100000000000001,3]
["550-559",18.600000000000001,2]
["550-561",12.8,2]
["550-562",8.1999999999999993,2]
["550-564",13.7,3]
["550-947",30.9,3]
["550-948",31.5,3]
["550-950",23,3]
["550-951",21.6,3]
["550-963",12.9,3]
["551-552",3.2,2]
["551-553",8.9,2]
["551-554",5.8,2]
["552-553",6.3,2]
["552-554",3.1,2]
["553-554",3.6,2]
["553-555",1.5,2]
["553-556",9.9,2]
["553-568",10,2]
["553-577",5.8,2]
["555-556",9.1999999999999993,2]
["555-568",9.3000000000000007,2]
["555-577",4.9000000000000004,2]
["555-578",6.7,2]
["556-557",4.2,2]
["556-563",14.1,2]
["556-567",7.6,2]
["556-568",3.2,2]
["556-569",8,2]
["556-577",6.2,2]
["557-558",2.4,2]
["557-559",4.2,2]
["557-567",10.199999999999999,2]
["557-568",5.7,2]
["557-569",7,2]
["558-559",3.3,2]
["558-560",7.3,2]
["558-567",10.5,2]
["558-568",6.6,2]
["558-569",6.1,2]
["558-570",6.8,2]
["558-585",11.1,2]
["558-586",13.5,2]
["559-560",5.3,2]
["559-563",9.3000000000000007,2]
["559-570",9,2]
["560-561",4,2]
["560-563",12.5,2]
["560-567",16.899999999999999,2]
["560-569",11.3,2]
["560-570",9.5,2]
["560-585",7.3,2]
["560-586",7.1,2]
["560-962",24.4,3]
["560-963",26.3,3]
["561-562",7.5,2]
["561-564",20,3]
["561-569",14.4,2]
["561-570",12.2,2]
["561-585",6.1,2]
["561-586",4.5,2]
["561-587",7.4,2]
["561-588",7.9,2]
["562-564",20.100000000000001,3]
["562-586",7.9,2]
["562-587",6.8,2]
["562-588",8.3000000000000007,2]
["562-590",10.9,2]
["562-591",10.9,2]
["562-592",21.6,2]
["562-617",29,3]
["562-627",33.200000000000003,3]
["562-947",27.6,3]
["562-948",26.1,3]
["562-950",22.7,3]
["562-951",23.5,3]
["562-952",26.6,3]
["562-962",14.4,3]
["562-963",21.7,3]
["563-564",11.4,3]
["563-963",19.899999999999999,3]
["563-972",52,3]
["564-963",8.9,3]
["564-964",19.8,3]
["564-965",33.9,3]
["566-567",3.7,2]
["566-568",7.7,2]
["566-571",6.4,2]
["566-577",4.5,2]
["566-578",1.6,2]
["566-579",3.4,2]
["566-581",6,2]
["567-568",4.7,2]
["567-569",7.5,2]
["567-571",5,2]
["567-577",5.4,2]
["567-579",6.1,2]
["567-581",8.6999999999999993,2]
["568-569",5,2]
["568-571",6.5,2]
["568-577",4.5,2]
["568-585",16.600000000000001,2]
["569-570",4.5,2]
["569-571",3.7,2]
["569-583",8.1,2]
["570-571",7.6,2]
["570-582",10.6,2]
["570-583",5.3,2]
["570-585",7.7,2]
["571-577",9,2]
["571-579",7.6,2]
["577-578",4.2,2]
["578-579",4.2,2]
["578-580",8.3000000000000007,2]
["579-580",4.2,2]
["579-581",3.1,2]
["580-581",4,2]
["580-582",6.3,2]
["581-582",3,2]
["582-583",6,2]
["583-584",6.5,2]
["584-585",4.5999999999999996,2]
["585-586",3.4,2]
["586-587",3.9,2]
["586-588",4.3,2]
["587-588",2.1,2]
["587-589",6,2]
["587-590",4.0999999999999996,2]
["587-591",7.3,2]
["587-948",24.9,3]
["587-950",25.8,3]
["587-962",21.1,3]
["588-589",4.5,2]
["588-590",3.9,2]
["588-591",7,2]
["589-590",5.4,2]
["589-591",8.6,2]
["590-591",3.2,2]
["591-592",10.9,2]
["591-617",18.600000000000001,3]
["591-627",23.5,3]
["591-947",22.3,3]
["591-948",17.899999999999999,3]
["591-950",22.1,3]
["591-951",25.5,3]
["591-952",30.8,3]
["591-962",21.9,3]
["592-617",8.4,2]
["592-627",14.4,3]
["592-947",20.6,3]
["592-948",12.9,3]
["592-950",25.3,3]
["592-951",30.4,3]
["592-952",37.200000000000003,3]
["592-962",30.9,3]
["617-624",4.0999999999999996,2]
["617-627",7.1,3]
["617-952",40,3]
["617-962",36.200000000000003,3]
["619-620",4.8,2]
["619-621",9.6,2]
["619-624",7.5,2]
["619-626",8.8000000000000007,2]
["620-621",4.9000000000000004,2]
["620-624",5.9,2]
["620-626",6.7,2]
["620-631",11.4,2]
["621-624",9.6999999999999993,2]
["621-626",10.6,2]
["624-626",3,2]
["624-627",6.9,3]
["624-631",7.6,2]
["624-948",13.3,3]
["626-627",9.5,3]
["626-631",5,2]
["627-629",4.2,3]
["627-631",13.7,3]
["627-633",5.2,3]
["627-639",11.6,3]
["627-948",9.3000000000000007,3]
["629-633",5.9,3]
["629-636",7.4,3]
["629-946",14.8,3]
["629-948",8.9,3]
["629-950",24.3,3]
["631-635",5.8,2]
["633-639",6.8,3]
["635-641",6.2,2]
["636-944",25.4,3]
["636-945",20.8,3]
["636-946",13.6,3]
["636-948",15,3]
["636-950",28.4,3]
["639-642",7.7,3]
["639-644",17.399999999999999,3]
["639-944",29,3]
["641-644",5.4,2]
["641-645",7.3,2]
["641-647",9.9,3]
["642-644",10.6,3]
["642-647",12,3]
["644-645",5.7,2]
["644-647",4.7,3]
["644-648",11.7,2]
["645-647",6.8,3]
["645-648",7,2]
["647-648",10.1,3]
["647-664",19.8,3]
["647-665",17.3,3]
["647-670",22.6,3]
["647-938",69.5,3]
["647-944",45,3]
["648-649",7.8,2]
["648-650",9.4,2]
["648-656",13,2]
["648-657",5.7,2]
["649-656",7.8,2]
["649-657",6.5,2]
["656-657",8,2]
["942-943",9.6,2]
["942-953",9.3000000000000007,2]
["942-954",16.5,2]
["943-944",15.3,2]
["943-945",13.4,2]
["944-945",7.3,2]
["944-946",16.100000000000001,2]
["944-948",31.2,3]
["945-946",9.1999999999999993,2]
["946-947",8.6999999999999993,2]
["946-948",18.3,3]
["947-948",9,3]
["947-950",11.2,3]
["947-962",26.5,3]
["948-950",17.3,3]
["948-952",30.8,3]
["948-962",30,3]
["950-951",5.9,2]
["950-962",16.7,3]
["951-952",8.1999999999999993,2]
["951-962",13.8,3]
["952-953",10.4,2]
["952-961",7.8,3]
["952-962",13.6,3]
["953-954",17.600000000000001,2]
["954-955",10,2]
["954-956",18,2]
["955-956",13.9,2]
["955-964",30.2,3]
["955-965",27.8,3]
["955-966",22.2,3]
["955-972",42,3]
["956-967",5.8,2]
["959-960",11,3]
["959-964",14.2,3]
["959-965",16.2,3]
["959-966",24.1,3]
["960-961",8.1,3]
["961-962",9.3000000000000007,3]
["961-964",23.9,3]
["961-965",32.1,3]
["964-965",14.3,3]
["964-966",33.6,3]
["964-970",67,3]
["964-972",25.3,3]
["964-974",61.5,3]
["964-975",64,3]
["964-976",63,3]
["964-977",57,3]
["964-978",80,3]
["964-979",69,3]
["964-980",78,3]
["964-981",80.5,3]
["964-982",111,3]
["964-983",108,3]
["964-984",111,3]
["964-985",111,3]
["964-986",116,3]
["965-966",23.9,3]
["965-970",53.5,3]
["965-972",14.8,3]
["965-973",64,3]
["965-974",47.7,3]
["965-975",50,3]
["965-976",49.8,3]
["965-977",45.4,3]
["965-982",105,3]
["965-983",105,3]
["965-984",106,3]
["965-985",107,3]
["965-986",111,3]
["966-967",6.7,2]
["966-970",37.5,3]
["966-972",32,3]
["966-973",56.5,3]
["966-974",43.1,3]
["966-975",48.6,3]
["966-976",49.4,3]
["966-977",52.5,3]
["966-979",71,3]
["966-980",82.5,3]
["966-981",86.5,3]
["966-982",118,3]
["966-983",122,3]
["966-984",122,3]
["966-985",123,3]
["966-986",125,3]
["967-968",18.100000000000001,2]
["968-969",18.600000000000001,2]
["969-970",12.9,2]
["969-971",13.2,2]
["970-971",12.9,2]
["970-972",54.5,3]
["970-973",31.8,3]
["970-974",31.7,3]
["970-976",41.5,3]
["970-977",54,3]
["971-973",40.5,3]
["971-974",42.7,3]
["971-977",65,3]
["972-974",39.4,3]
["972-975",40.1,3]
["972-976",39.1,3]
["972-977",31.8,3]
["972-978",55,3]
["972-979",45.6,3]
["972-980",56,3]
["972-981",59,3]
["972-982",90.5,3]
["972-983",92,3]
["972-984",93,3]
["972-985",93.5,3]
["972-986",97,3]
["973-974",17.600000000000001,3]
["973-975",19.899999999999999,3]
["974-975",7.5,3]
["974-976",9.8000000000000007,3]
["974-977",24,3]
["975-976",3,3]
["975-977",18.5,3]
["976-977",15.7,3]
["977-978",23.2,3]
["977-979",19.7,3]
["977-980",31.6,3]
["978-979",23.3,3]
["979-980",11.9,3]
["979-983",57.5,3]
["980-981",6,3]
["981-982",31.9,3]
["981-983",40.4,3]
["981-984",37,3]
["981-985",39.700000000000003,3]
["981-986",38.6,3]
["982-983",25.1,3]
["982-984",14.8,3]
["982-985",20.8,3]
["982-986",8.5,3]
["983-984",10.7,3]
["983-985",5,3]
["983-986",20.6,3]
["983-987",22,3]
["983-988",23.1,3]
["983-989",28.9,3]
["984-985",6,3]
["984-986",10,3]
["984-987",15.2,3]
["984-988",17.100000000000001,3]
["984-989",24.8,3]
["985-986",15.6,3]
["985-987",17.600000000000001,3]
["985-988",18.899999999999999,3]
["985-989",25.5,3]
["986-987",11.9,3]
["987-988",2.2999999999999998,3]
["988-989",8.4,3]